BEGIN:VCALENDAR
VERSION:2.0
PRODID:-//Kalender Kloster Lorsch - ECPv6.15.16//NONSGML v1.0//EN
CALSCALE:GREGORIAN
METHOD:PUBLISH
X-ORIGINAL-URL:https://kalender.kloster-lorsch.de
X-WR-CALDESC:Veranstaltungen für Kalender Kloster Lorsch
REFRESH-INTERVAL;VALUE=DURATION:PT1H
X-Robots-Tag:noindex
X-PUBLISHED-TTL:PT1H
BEGIN:VTIMEZONE
TZID:Europe/Berlin
BEGIN:DAYLIGHT
TZOFFSETFROM:+0100
TZOFFSETTO:+0200
TZNAME:CEST
DTSTART:20240331T010000
END:DAYLIGHT
BEGIN:STANDARD
TZOFFSETFROM:+0200
TZOFFSETTO:+0100
TZNAME:CET
DTSTART:20241027T010000
END:STANDARD
BEGIN:DAYLIGHT
TZOFFSETFROM:+0100
TZOFFSETTO:+0200
TZNAME:CEST
DTSTART:20250330T010000
END:DAYLIGHT
BEGIN:STANDARD
TZOFFSETFROM:+0200
TZOFFSETTO:+0100
TZNAME:CET
DTSTART:20251026T010000
END:STANDARD
BEGIN:DAYLIGHT
TZOFFSETFROM:+0100
TZOFFSETTO:+0200
TZNAME:CEST
DTSTART:20260329T010000
END:DAYLIGHT
BEGIN:STANDARD
TZOFFSETFROM:+0200
TZOFFSETTO:+0100
TZNAME:CET
DTSTART:20261025T010000
END:STANDARD
END:VTIMEZONE
BEGIN:VEVENT
DTSTART;TZID=Europe/Berlin:20250106T150000
DTEND;TZID=Europe/Berlin:20250106T150000
DTSTAMP:20260419T201131
CREATED:20241218T130943Z
LAST-MODIFIED:20241218T132951Z
UID:10000353-1736175600-1736175600@kalender.kloster-lorsch.de
SUMMARY:Hingucker Die Heiligen Drei Könige und das Lorscher Evangeliar
DESCRIPTION:Am 6. Januar feiern wir die Heiligen drei Könige\, die wir aus zahllosen Darstellungen kennen. Sie gehen auf das Matthäusevangelium zurück\, das allerdings nicht von Königen spricht sondern von „Weisen aus dem Osten“\, die dem Stern von Bethlehem folgten. Diese Geschichte wird auch auf dem Umschlag des Lorscher Evangeliars „erzählt“: in Elfenbein geschnitzt. Die Elfenbeineinbände des kostbarsten Buches\, das je in Lorsch gewesen ist\, stehen nicht nur für die Spitzenständigkeit karolingischer Zierkunst\, sondern auch für eine lange\, christliche Tradition. \nEine Anmeldung ist nicht notwendig.\nPreis: kostenfrei
URL:https://kalender.kloster-lorsch.de/kalender/hingucker-die-heiligen-drei-koenige-und-das-lorscher-evangeliar/
CATEGORIES:Gesamtes Welterbe,Vortrag
ATTACH;FMTTYPE=image/jpeg:https://kalender.kloster-lorsch.de/wp-content/uploads/2024/12/Hingucker-hl-drei-Koenige-Bildnachweis-Biblioteca-Apostolica-Vaticana.jpg
END:VEVENT
END:VCALENDAR