BEGIN:VCALENDAR
VERSION:2.0
PRODID:-//Kalender Kloster Lorsch - ECPv6.15.16//NONSGML v1.0//EN
CALSCALE:GREGORIAN
METHOD:PUBLISH
X-WR-CALNAME:Kalender Kloster Lorsch
X-ORIGINAL-URL:https://kalender.kloster-lorsch.de
X-WR-CALDESC:Veranstaltungen für Kalender Kloster Lorsch
REFRESH-INTERVAL;VALUE=DURATION:PT1H
X-Robots-Tag:noindex
X-PUBLISHED-TTL:PT1H
BEGIN:VTIMEZONE
TZID:Europe/Berlin
BEGIN:DAYLIGHT
TZOFFSETFROM:+0100
TZOFFSETTO:+0200
TZNAME:CEST
DTSTART:20240331T010000
END:DAYLIGHT
BEGIN:STANDARD
TZOFFSETFROM:+0200
TZOFFSETTO:+0100
TZNAME:CET
DTSTART:20241027T010000
END:STANDARD
BEGIN:DAYLIGHT
TZOFFSETFROM:+0100
TZOFFSETTO:+0200
TZNAME:CEST
DTSTART:20250330T010000
END:DAYLIGHT
BEGIN:STANDARD
TZOFFSETFROM:+0200
TZOFFSETTO:+0100
TZNAME:CET
DTSTART:20251026T010000
END:STANDARD
BEGIN:DAYLIGHT
TZOFFSETFROM:+0100
TZOFFSETTO:+0200
TZNAME:CEST
DTSTART:20260329T010000
END:DAYLIGHT
BEGIN:STANDARD
TZOFFSETFROM:+0200
TZOFFSETTO:+0100
TZNAME:CET
DTSTART:20261025T010000
END:STANDARD
END:VTIMEZONE
BEGIN:VEVENT
DTSTART;TZID=Europe/Berlin:20250126T100000
DTEND;TZID=Europe/Berlin:20250126T160000
DTSTAMP:20260419T161220
CREATED:20241203T094722Z
LAST-MODIFIED:20250113T151451Z
UID:10000352-1737885600-1737907200@kalender.kloster-lorsch.de
SUMMARY:Lauresham im Winter
DESCRIPTION:Heute begrüßt das Freilichtlabor Lauresham Besucherinnen und Besucher zum ersten Thementag 2025: „Winter in Lauresham“. Vielfältige Aktionen vermitteln anschaulich\, wie die Menschen des Frühen Mittelalters diese Jahreszeit erlebten\, wie sie ihre Häuser isolierten\, Nahrungsmittel konservierten und welchen Arbeiten sie in den kalten und dunklen Monaten nachgingen. Freuen Sie sich auch auf Schlittenfahrten mit unseren Zugtieren. \n\n\n\nOrt: Freilichtlabor Lauresham\nPreis: 5 € | ermäßigt 3 € | Familienkarte 11\,50 € (2 Erw.\, max. 4 Kinder bis 16 Jahre)
URL:https://kalender.kloster-lorsch.de/kalender/winter-in-lauresham-2/
CATEGORIES:Lauresham,Thementag
ATTACH;FMTTYPE=image/jpeg:https://kalender.kloster-lorsch.de/wp-content/uploads/2024/12/Frank_Jaeger_DSC4263-scaled-e1734527552305.jpg
END:VEVENT
END:VCALENDAR