BEGIN:VCALENDAR
VERSION:2.0
PRODID:-//Kalender Kloster Lorsch - ECPv6.15.16//NONSGML v1.0//EN
CALSCALE:GREGORIAN
METHOD:PUBLISH
X-ORIGINAL-URL:https://kalender.kloster-lorsch.de
X-WR-CALDESC:Veranstaltungen für Kalender Kloster Lorsch
REFRESH-INTERVAL;VALUE=DURATION:PT1H
X-Robots-Tag:noindex
X-PUBLISHED-TTL:PT1H
BEGIN:VTIMEZONE
TZID:Europe/Berlin
BEGIN:DAYLIGHT
TZOFFSETFROM:+0100
TZOFFSETTO:+0200
TZNAME:CEST
DTSTART:20240331T010000
END:DAYLIGHT
BEGIN:STANDARD
TZOFFSETFROM:+0200
TZOFFSETTO:+0100
TZNAME:CET
DTSTART:20241027T010000
END:STANDARD
BEGIN:DAYLIGHT
TZOFFSETFROM:+0100
TZOFFSETTO:+0200
TZNAME:CEST
DTSTART:20250330T010000
END:DAYLIGHT
BEGIN:STANDARD
TZOFFSETFROM:+0200
TZOFFSETTO:+0100
TZNAME:CET
DTSTART:20251026T010000
END:STANDARD
BEGIN:DAYLIGHT
TZOFFSETFROM:+0100
TZOFFSETTO:+0200
TZNAME:CEST
DTSTART:20260329T010000
END:DAYLIGHT
BEGIN:STANDARD
TZOFFSETFROM:+0200
TZOFFSETTO:+0100
TZNAME:CET
DTSTART:20261025T010000
END:STANDARD
END:VTIMEZONE
BEGIN:VEVENT
DTSTART;TZID=Europe/Berlin:20250215T090000
DTEND;TZID=Europe/Berlin:20250216T170000
DTSTAMP:20260419T185231
CREATED:20241218T132323Z
LAST-MODIFIED:20250115T085459Z
UID:10000356-1739610000-1739725200@kalender.kloster-lorsch.de
SUMMARY:AUSGEBUCHT - Bogenbaukurs für Erwachsene
DESCRIPTION:Traditioneller Bogenbau \nSeit tausenden von Jahren haben unsere Vorfahren mit einfachen Werkzeugen aus dem was sie hatten einfache Jagdwaffen hergestellt. \nDie Teilnehmer bauen ihre eigenen Pfeile und Bogen aus natürlichen Materialien\, nach historisch belegten Funden\, mit einfachen Handwerkzeugen.\nIn diesem 2 Tage dauernden Seminar erlernen sie nicht nur die Herstellung\, sondern auch die richtige Handhabung der selbst gebauten Bogen.\nZusätzlich bringen die Seminarleiter jede Menge Wissen über verschiedene Bogen Arten und deren Geschichte mit.\nEs erwarten sie 2 spannende Tage mit jeder Menge interessanter Fakten und eine Fülle wissenswerter Anekdoten über die Historie von Pfeil und Bogen und nicht zuletzt die Erfahrung seinen eigenen Bogen unter fachkundiger Anleitung geschaffen zu haben. \nSa 9-18 Uhr + So 9-17 Uhr \nDie Kursgebühr beträgt 245\,00€ (inkl. Material). Die Gebühr ist zu Kursbeginn direkt an die Kursleiter (Freye Bogner) zu entrichten. \nAnzahl Teilnehmer: min. 4; max. 6 Teilnehmer \nWeitere Informationen zu den Kursleitern: http://www.freye-bogner.de/ \n 
URL:https://kalender.kloster-lorsch.de/kalender/bogenbaukurs-fuer-erwachsene/
LOCATION:Lauresham (BIZ)
CATEGORIES:Klosterhügel,Zehntscheune
ATTACH;FMTTYPE=image/jpeg:https://kalender.kloster-lorsch.de/wp-content/uploads/2024/12/Bogenbau.jpg
END:VEVENT
BEGIN:VEVENT
DTSTART;TZID=Europe/Berlin:20250215T110000
DTEND;TZID=Europe/Berlin:20250215T123000
DTSTAMP:20260419T185231
CREATED:20241218T131922Z
LAST-MODIFIED:20250106T124002Z
UID:10000355-1739617200-1739622600@kalender.kloster-lorsch.de
SUMMARY:Führung zur Sonderausstellung in der Zehntscheune
DESCRIPTION:Die „Steine aus dem Brunnen“ stehen im Mittelpunkt dieser Führung. Dazu zählen der sogenannte „Atzmann“ und der „Diakon“\, aber auch viele Fragmente von Bauschmuck des mittelalterlichen Klosters Lorsch. \nVor einigen Jahren wurde auf dem Gelände des ehem. Klosters Lorsch ein Brunnenschacht aus dem 18. Jahrhundert wieder entdeckt. Die Wandung des Brunnens offenbarte\, dass zu dessen Bau Steine aus der mittelalterlichen Basilika des Lorscher Klosters verwendet wurden. Ein Zeitfenster in die Vergangenheit! Kommen Sie mit auf die Reise in das jüngste Kapitel der Archäologie des Klostergeländes. \nAltersstufe: Erwachsene\nTN: ab 5 Personen bis max. 25 Personen\nAnmeldeschluss: Do\, 13.2.\nPreis: 7 € | ermäßigt 5 €
URL:https://kalender.kloster-lorsch.de/kalender/fuehrung-zur-sonderausstellung-in-der-zehntscheune-2024-02-15/
LOCATION:Zehntscheune
CATEGORIES:Klosterhügel,Zehntscheune
ATTACH;FMTTYPE=image/jpeg:https://kalender.kloster-lorsch.de/wp-content/uploads/2024/12/Fuehrung-zur-Sonderausstellung-i-der-Zehntscheune-Bildnachweis-Thomas-Neu-DSC_0814.jpg
END:VEVENT
END:VCALENDAR