BEGIN:VCALENDAR
VERSION:2.0
PRODID:-//Kalender Kloster Lorsch - ECPv6.15.16//NONSGML v1.0//EN
CALSCALE:GREGORIAN
METHOD:PUBLISH
X-WR-CALNAME:Kalender Kloster Lorsch
X-ORIGINAL-URL:https://kalender.kloster-lorsch.de
X-WR-CALDESC:Veranstaltungen für Kalender Kloster Lorsch
REFRESH-INTERVAL;VALUE=DURATION:PT1H
X-Robots-Tag:noindex
X-PUBLISHED-TTL:PT1H
BEGIN:VTIMEZONE
TZID:Europe/Berlin
BEGIN:DAYLIGHT
TZOFFSETFROM:+0100
TZOFFSETTO:+0200
TZNAME:CEST
DTSTART:20240331T010000
END:DAYLIGHT
BEGIN:STANDARD
TZOFFSETFROM:+0200
TZOFFSETTO:+0100
TZNAME:CET
DTSTART:20241027T010000
END:STANDARD
BEGIN:DAYLIGHT
TZOFFSETFROM:+0100
TZOFFSETTO:+0200
TZNAME:CEST
DTSTART:20250330T010000
END:DAYLIGHT
BEGIN:STANDARD
TZOFFSETFROM:+0200
TZOFFSETTO:+0100
TZNAME:CET
DTSTART:20251026T010000
END:STANDARD
BEGIN:DAYLIGHT
TZOFFSETFROM:+0100
TZOFFSETTO:+0200
TZNAME:CEST
DTSTART:20260329T010000
END:DAYLIGHT
BEGIN:STANDARD
TZOFFSETFROM:+0200
TZOFFSETTO:+0100
TZNAME:CET
DTSTART:20261025T010000
END:STANDARD
END:VTIMEZONE
BEGIN:VEVENT
DTSTART;TZID=Europe/Berlin:20250222T140000
DTEND;TZID=Europe/Berlin:20250222T170000
DTSTAMP:20260419T230003
CREATED:20241218T132529Z
LAST-MODIFIED:20241218T132529Z
UID:10000357-1740232800-1740243600@kalender.kloster-lorsch.de
SUMMARY:Familienworkshop: Mittelalterliche Tonbodenfliesen
DESCRIPTION:Ornamentierte Tonbodenfliesen schmückten vielfach die Fußböden des mittelalterlichen Klosters Lorsch. Die überlieferten Originale zeugen von einer großen Mustervielfalt. Nach einem Rundgang im Kloster Lorsch kann selbst eine Fliese in Ton gestempelt werden. Die Stempel sind nach den Originalen angefertigt. \nAltersstufe: ab 6 Jahre\, Kinder in Begleitung Erwachsener\nTeilnehmer: ab 5 Personen bis max. 20 Personen\nAnmeldeschluss:  14.02.\nPreis: Erwachsene 13 € | Kinder 8 €
URL:https://kalender.kloster-lorsch.de/kalender/familienworkshop-mittelalterliche-tonbodenfliesen-2/
LOCATION:Museumszentrum
CATEGORIES:Klosterhügel,Museumspädagogik,Workshop
ATTACH;FMTTYPE=image/jpeg:https://kalender.kloster-lorsch.de/wp-content/uploads/2024/09/100_8805-∏-VSG-scaled.jpg
END:VEVENT
END:VCALENDAR