BEGIN:VCALENDAR
VERSION:2.0
PRODID:-//Kalender Kloster Lorsch - ECPv6.15.16//NONSGML v1.0//EN
CALSCALE:GREGORIAN
METHOD:PUBLISH
X-WR-CALNAME:Kalender Kloster Lorsch
X-ORIGINAL-URL:https://kalender.kloster-lorsch.de
X-WR-CALDESC:Veranstaltungen für Kalender Kloster Lorsch
REFRESH-INTERVAL;VALUE=DURATION:PT1H
X-Robots-Tag:noindex
X-PUBLISHED-TTL:PT1H
BEGIN:VTIMEZONE
TZID:Europe/Berlin
BEGIN:DAYLIGHT
TZOFFSETFROM:+0100
TZOFFSETTO:+0200
TZNAME:CEST
DTSTART:20240331T010000
END:DAYLIGHT
BEGIN:STANDARD
TZOFFSETFROM:+0200
TZOFFSETTO:+0100
TZNAME:CET
DTSTART:20241027T010000
END:STANDARD
BEGIN:DAYLIGHT
TZOFFSETFROM:+0100
TZOFFSETTO:+0200
TZNAME:CEST
DTSTART:20250330T010000
END:DAYLIGHT
BEGIN:STANDARD
TZOFFSETFROM:+0200
TZOFFSETTO:+0100
TZNAME:CET
DTSTART:20251026T010000
END:STANDARD
BEGIN:DAYLIGHT
TZOFFSETFROM:+0100
TZOFFSETTO:+0200
TZNAME:CEST
DTSTART:20260329T010000
END:DAYLIGHT
BEGIN:STANDARD
TZOFFSETFROM:+0200
TZOFFSETTO:+0100
TZNAME:CET
DTSTART:20261025T010000
END:STANDARD
END:VTIMEZONE
BEGIN:VEVENT
DTSTART;TZID=Europe/Berlin:20250309T100000
DTEND;TZID=Europe/Berlin:20250309T170000
DTSTAMP:20260420T063345
CREATED:20241218T133535Z
LAST-MODIFIED:20250218T081317Z
UID:10000360-1741514400-1741539600@kalender.kloster-lorsch.de
SUMMARY:Frühlingsfest mit Feldtag
DESCRIPTION:Eingebunden in ein großes Frühlingsfest mit Feldtag\, geht es an diesem Sonntag vor allem um die Frage\, was der Beginn der warmen Jahreszeit für die Menschen vor 1200 Jahren an neuen Herausforderungen und Aufgaben mit sich brachte. Die Bewirtschaftung der Äcker und die Schafhaltung stehen dieses Jahr im Fokus. \nIm frei erkundbaren Gelände gibt es ein großes Rahmenprogramm mit Zugtiervorführungen. Die wissenschaftlich untersuchten Wölbäcker werden gepflügt und geeggt. Der Besucher kann den Bau neuer Pflüge erleben und sich unter anderem vom Pflugexperten Thomas Lang deren Evolution von der Eisenzeit bis in die Moderne erklären lassen. Die kleinen Gäste können das Thema tierische Anspannungskraft besonders immersiv erleben: durch eine Fahrt mit dem Ziegengespann. \nAuf der Weide und am Schäferhaus wird gezeigt\, wie im Mittelalter Schafe gehütet wurden. Auch deren wichtigstes Erzeugnis – die Wolle – und deren Verarbeitung sind Thema des Tages. Der Weg von der Schur\, dem Kämmen und Waschen bis hin zu einem gewobenen Stoff und dessen Färbung werden von unserer Living History Gruppe „Familia Carolina“ gezeigt. Im Kontrast dazu stellt die Gruppe „Spinnweben“ die traditionelle Wollverarbeitung des 20. Jahrhunderts dar. \nDie Schmiede ist an diesem Tag gleich doppelt in Betrieb\, denn an der Außenessen werden landwirtschaftliche Werkstücke gefertigt\, während im Grubenhaus Reiterausstattung tauschiert wird. \nNatürlich darf an keinem Feldtag die Verarbeitung der Feldfrüchte – das Mahlen und Brotbacken – fehlen. Auch für das leibliche Wohl des Besuchers ist mit Essensständen gesorgt und mehrere Mitmachangebote bieten ein abwechslungsreiches Programm für Groß und Klein. \nZuletzt wird eine Vielzahl an Infoständen zum Verweilen einladen; vertreten werden unter anderem sein die Interessengemeinschaft Zugpferde in Deutschland\, der Förderverein UNESCO Welterbe Kloster Lorsch sowie auch das regionale Vermarktungsprojekt WIR in Lorsch. \nOrt: Freilichtlabor Lauresham\nEintritt: 5 € | ermäßigt 3 € | Familienkarte 11\,50 € (2 Erw.\, max. 4 Kinder bis 16 Jahre)
URL:https://kalender.kloster-lorsch.de/kalender/fruehlingsfest-mit-feldtag/
LOCATION:Freilichtlabor Lauresham
CATEGORIES:Lauresham,Thementag
ATTACH;FMTTYPE=image/jpeg:https://kalender.kloster-lorsch.de/wp-content/uploads/2024/12/Thementag-Fruehlingsfest-mit-Feldtag-Bildnachweis-Loic-Lagarde.jpg
END:VEVENT
END:VCALENDAR