BEGIN:VCALENDAR
VERSION:2.0
PRODID:-//Kalender Kloster Lorsch - ECPv6.15.16//NONSGML v1.0//EN
CALSCALE:GREGORIAN
METHOD:PUBLISH
X-WR-CALNAME:Kalender Kloster Lorsch
X-ORIGINAL-URL:https://kalender.kloster-lorsch.de
X-WR-CALDESC:Veranstaltungen für Kalender Kloster Lorsch
REFRESH-INTERVAL;VALUE=DURATION:PT1H
X-Robots-Tag:noindex
X-PUBLISHED-TTL:PT1H
BEGIN:VTIMEZONE
TZID:Europe/Berlin
BEGIN:DAYLIGHT
TZOFFSETFROM:+0100
TZOFFSETTO:+0200
TZNAME:CEST
DTSTART:20240331T010000
END:DAYLIGHT
BEGIN:STANDARD
TZOFFSETFROM:+0200
TZOFFSETTO:+0100
TZNAME:CET
DTSTART:20241027T010000
END:STANDARD
BEGIN:DAYLIGHT
TZOFFSETFROM:+0100
TZOFFSETTO:+0200
TZNAME:CEST
DTSTART:20250330T010000
END:DAYLIGHT
BEGIN:STANDARD
TZOFFSETFROM:+0200
TZOFFSETTO:+0100
TZNAME:CET
DTSTART:20251026T010000
END:STANDARD
BEGIN:DAYLIGHT
TZOFFSETFROM:+0100
TZOFFSETTO:+0200
TZNAME:CEST
DTSTART:20260329T010000
END:DAYLIGHT
BEGIN:STANDARD
TZOFFSETFROM:+0200
TZOFFSETTO:+0100
TZNAME:CET
DTSTART:20261025T010000
END:STANDARD
END:VTIMEZONE
BEGIN:VEVENT
DTSTART;TZID=Europe/Berlin:20250411T170000
DTEND;TZID=Europe/Berlin:20250411T200000
DTSTAMP:20260420T231214
CREATED:20250107T143129Z
LAST-MODIFIED:20250123T085347Z
UID:10000377-1744390800-1744401600@kalender.kloster-lorsch.de
SUMMARY:Familienworkshop: Ostereier verzieren nach altem Brauch
DESCRIPTION:Bienenwachs ist im Mittelalter eine wichtige Grundlage für vielfältige Produkte: für Kerzen\, für Siegel oder als Salbengrundlage wird das Wachs der Bienen benötigt. Man kann mit diesem Wachs aber auch zu Ostern wunderschön verzierte Eier herstellen. Diese Technik des Ostereierverzierens geht auf jahrhundertealte Bräuche zurück. \nWir verzieren Ostereier mit Wachs und färben sie ein. Anschließend flechten wir für die wunderschönen Eier ein kleines Nest. \nZwischen den Projekten wird eine kleine Pause gemacht\, in der mitgebrachter Proviant verzehrt werden kann. \nBitte für den Kurs gewaschene und ausgeblasene Eier (3- 5 Stück / Person) mitbringen sowie Eierbecher zum Trocknen. \nPreis: 13 € | ermäßigt 8 €\nFür Erwachsene und Kinder ab 7 Jahren in Begleitung eines Erwachsenen\nTN: Minimal 5 Personen / Maximal 12 Personen\nAnmeldung bis 4.4.
URL:https://kalender.kloster-lorsch.de/kalender/familienworkshop-ostereier-verzieren-nach-altem-brauch/
LOCATION:Museumszentrum
CATEGORIES:Klosterhügel,Workshop
ATTACH;FMTTYPE=image/jpeg:https://kalender.kloster-lorsch.de/wp-content/uploads/2025/01/Ostereier-bemalen-ErikaRodenheber.jpeg
END:VEVENT
END:VCALENDAR