BEGIN:VCALENDAR
VERSION:2.0
PRODID:-//Kalender Kloster Lorsch - ECPv6.15.16//NONSGML v1.0//EN
CALSCALE:GREGORIAN
METHOD:PUBLISH
X-WR-CALNAME:Kalender Kloster Lorsch
X-ORIGINAL-URL:https://kalender.kloster-lorsch.de
X-WR-CALDESC:Veranstaltungen für Kalender Kloster Lorsch
REFRESH-INTERVAL;VALUE=DURATION:PT1H
X-Robots-Tag:noindex
X-PUBLISHED-TTL:PT1H
BEGIN:VTIMEZONE
TZID:Europe/Berlin
BEGIN:DAYLIGHT
TZOFFSETFROM:+0100
TZOFFSETTO:+0200
TZNAME:CEST
DTSTART:20240331T010000
END:DAYLIGHT
BEGIN:STANDARD
TZOFFSETFROM:+0200
TZOFFSETTO:+0100
TZNAME:CET
DTSTART:20241027T010000
END:STANDARD
BEGIN:DAYLIGHT
TZOFFSETFROM:+0100
TZOFFSETTO:+0200
TZNAME:CEST
DTSTART:20250330T010000
END:DAYLIGHT
BEGIN:STANDARD
TZOFFSETFROM:+0200
TZOFFSETTO:+0100
TZNAME:CET
DTSTART:20251026T010000
END:STANDARD
BEGIN:DAYLIGHT
TZOFFSETFROM:+0100
TZOFFSETTO:+0200
TZNAME:CEST
DTSTART:20260329T010000
END:DAYLIGHT
BEGIN:STANDARD
TZOFFSETFROM:+0200
TZOFFSETTO:+0100
TZNAME:CET
DTSTART:20261025T010000
END:STANDARD
END:VTIMEZONE
BEGIN:VEVENT
DTSTART;TZID=Europe/Berlin:20250412T110000
DTEND;TZID=Europe/Berlin:20250412T150000
DTSTAMP:20260421T004217
CREATED:20250107T143639Z
LAST-MODIFIED:20250226T095654Z
UID:10000378-1744455600-1744470000@kalender.kloster-lorsch.de
SUMMARY:Familienworkshop: Ledertaschen herstellen
DESCRIPTION:Archäologen finden bei ihren Grabungen meistens Funde aus sehr beständigen Materialien: Scherben aus Ton\, Werkzeugfragmente oder Waffen aus Metall\, Knochen von Menschen und Tieren. Nur unter ganz bestimmten Bedingungen und mit viel Glück erhalten sich Gegenstände aus Holz\, Stoff oder Leder. \nSehr seltene archäologische Funde sind beispielsweise die Reste von mittelalterlichen Taschen und Beuteln aus Tierhaut. Sie dienen als Vorbilder für diesen Leder-Workshop\, bei dem wir schneidern\, stanzen\, nähen und verzieren. Egal ob für Kleingeld\, Krimskrams oder Handy\, zum Umhängen oder an den Gürtel schnallen; für alle ist das passende Täschchen dabei. \nAltersstufe: ab 9 Jahre in Begleitung eines Erwachsenen\nTN: ab 5 Personen bis max. 15 Personen\nAnmeldeschluss: 4.4.\nPreis inkl. Material: Erwachsene 16 € / Kinder 10 € / zzgl. 5\,00 € Material p.P.
URL:https://kalender.kloster-lorsch.de/kalender/familienworkshop-ledertaschen-herstellen/
LOCATION:Lauresham (BIZ)
CATEGORIES:Lauresham,Workshop
ATTACH;FMTTYPE=image/jpeg:https://kalender.kloster-lorsch.de/wp-content/uploads/2025/01/TaschenWS_HeikeWirthSG.jpg
END:VEVENT
END:VCALENDAR