BEGIN:VCALENDAR
VERSION:2.0
PRODID:-//Kalender Kloster Lorsch - ECPv6.15.16//NONSGML v1.0//EN
CALSCALE:GREGORIAN
METHOD:PUBLISH
X-WR-CALNAME:Kalender Kloster Lorsch
X-ORIGINAL-URL:https://kalender.kloster-lorsch.de
X-WR-CALDESC:Veranstaltungen für Kalender Kloster Lorsch
REFRESH-INTERVAL;VALUE=DURATION:PT1H
X-Robots-Tag:noindex
X-PUBLISHED-TTL:PT1H
BEGIN:VTIMEZONE
TZID:Europe/Berlin
BEGIN:DAYLIGHT
TZOFFSETFROM:+0100
TZOFFSETTO:+0200
TZNAME:CEST
DTSTART:20240331T010000
END:DAYLIGHT
BEGIN:STANDARD
TZOFFSETFROM:+0200
TZOFFSETTO:+0100
TZNAME:CET
DTSTART:20241027T010000
END:STANDARD
BEGIN:DAYLIGHT
TZOFFSETFROM:+0100
TZOFFSETTO:+0200
TZNAME:CEST
DTSTART:20250330T010000
END:DAYLIGHT
BEGIN:STANDARD
TZOFFSETFROM:+0200
TZOFFSETTO:+0100
TZNAME:CET
DTSTART:20251026T010000
END:STANDARD
BEGIN:DAYLIGHT
TZOFFSETFROM:+0100
TZOFFSETTO:+0200
TZNAME:CEST
DTSTART:20260329T010000
END:DAYLIGHT
BEGIN:STANDARD
TZOFFSETFROM:+0200
TZOFFSETTO:+0100
TZNAME:CET
DTSTART:20261025T010000
END:STANDARD
END:VTIMEZONE
BEGIN:VEVENT
DTSTART;TZID=Europe/Berlin:20250417T100000
DTEND;TZID=Europe/Berlin:20250417T130000
DTSTAMP:20260421T045725
CREATED:20250107T144231Z
LAST-MODIFIED:20250123T085408Z
UID:10000380-1744884000-1744894800@kalender.kloster-lorsch.de
SUMMARY:Ferien-Workshop: Alles Natur: Ostereier färben mit Farben aus der Natur
DESCRIPTION:Das Färben von Ostereiern hat eine sehr lange Tradition. Erfahrt mehr darüber und besucht mit uns die Hühnerschar in Lauresham. Danach färben wir Eier mit Zwiebelschalen und anderen Naturfarbstoffen und gestalten ein fantasievolles Osternest. \nPreis: 12 € (inklusive Material) \nAnmeldung bis 11.04. \nMin. 5/ Max. 15 Kinder zwischen 6 und 9 Jahren
URL:https://kalender.kloster-lorsch.de/kalender/ferien-workshop-alles-natur-ostereier-faerben-mit-farben-aus-der-natur/
CATEGORIES:Lauresham,Museumspädagogik
ATTACH;FMTTYPE=image/jpeg:https://kalender.kloster-lorsch.de/wp-content/uploads/2025/01/Ostereinerfaerben_ErikaRodenheber.jpg
END:VEVENT
END:VCALENDAR