BEGIN:VCALENDAR
VERSION:2.0
PRODID:-//Kalender Kloster Lorsch - ECPv6.15.16//NONSGML v1.0//EN
CALSCALE:GREGORIAN
METHOD:PUBLISH
X-WR-CALNAME:Kalender Kloster Lorsch
X-ORIGINAL-URL:https://kalender.kloster-lorsch.de
X-WR-CALDESC:Veranstaltungen für Kalender Kloster Lorsch
REFRESH-INTERVAL;VALUE=DURATION:PT1H
X-Robots-Tag:noindex
X-PUBLISHED-TTL:PT1H
BEGIN:VTIMEZONE
TZID:Europe/Berlin
BEGIN:DAYLIGHT
TZOFFSETFROM:+0100
TZOFFSETTO:+0200
TZNAME:CEST
DTSTART:20240331T010000
END:DAYLIGHT
BEGIN:STANDARD
TZOFFSETFROM:+0200
TZOFFSETTO:+0100
TZNAME:CET
DTSTART:20241027T010000
END:STANDARD
BEGIN:DAYLIGHT
TZOFFSETFROM:+0100
TZOFFSETTO:+0200
TZNAME:CEST
DTSTART:20250330T010000
END:DAYLIGHT
BEGIN:STANDARD
TZOFFSETFROM:+0200
TZOFFSETTO:+0100
TZNAME:CET
DTSTART:20251026T010000
END:STANDARD
BEGIN:DAYLIGHT
TZOFFSETFROM:+0100
TZOFFSETTO:+0200
TZNAME:CEST
DTSTART:20260329T010000
END:DAYLIGHT
BEGIN:STANDARD
TZOFFSETFROM:+0200
TZOFFSETTO:+0100
TZNAME:CET
DTSTART:20261025T010000
END:STANDARD
END:VTIMEZONE
BEGIN:VEVENT
DTSTART;TZID=Europe/Berlin:20250426T150000
DTEND;TZID=Europe/Berlin:20250426T163000
DTSTAMP:20260421T081508
CREATED:20250107T144857Z
LAST-MODIFIED:20250107T144857Z
UID:10000382-1745679600-1745685000@kalender.kloster-lorsch.de
SUMMARY:Familienführung „Nutztiere früher und heute“
DESCRIPTION:Was sind Nutztiere und worin besteht ihr Nutzen für den Menschen? Die Haltung von Nutztieren hat sich in den letzten 1000 Jahren drastisch verändert\, so wie sich die Lebensweise von uns Menschen drastisch verändert hat. \nWir wollen heute auf unserem Rundgang durch Lauresham erkunden\, welche Nutztiere es auf einem frühmittelalterlichen Herrenhof gegeben hat\, wofür sie gebraucht wurden\, wie sie dort gehalten wurden und warum diese Art der Tierhaltung so heute nicht mehr möglich ist. \nAltersstufe: Grundschule (ab 3. Klasse). Kinder in Begleitung Erwachsener\nTN: ab 5 Personen bis max. 25 Personen\nAnmeldeschluss: Fr\, 22.4.\nPreis: 7 € | ermäßigt 5 € | Familienkarte 16\,50 € (2 Erw.\, max. 4 Kinder bis 16 Jahre)
URL:https://kalender.kloster-lorsch.de/kalender/familienfuehrung-nutztiere-frueher-und-heute-april/
CATEGORIES:Lauresham,Themenführungen
ATTACH;FMTTYPE=image/jpeg:https://kalender.kloster-lorsch.de/wp-content/uploads/2025/01/Nutztierfuehrung-Bildnachweis-Kunert-DSC07758.jpg
END:VEVENT
END:VCALENDAR