BEGIN:VCALENDAR
VERSION:2.0
PRODID:-//Kalender Kloster Lorsch - ECPv6.15.16//NONSGML v1.0//EN
CALSCALE:GREGORIAN
METHOD:PUBLISH
X-ORIGINAL-URL:https://kalender.kloster-lorsch.de
X-WR-CALDESC:Veranstaltungen für Kalender Kloster Lorsch
REFRESH-INTERVAL;VALUE=DURATION:PT1H
X-Robots-Tag:noindex
X-PUBLISHED-TTL:PT1H
BEGIN:VTIMEZONE
TZID:Europe/Berlin
BEGIN:DAYLIGHT
TZOFFSETFROM:+0100
TZOFFSETTO:+0200
TZNAME:CEST
DTSTART:20240331T010000
END:DAYLIGHT
BEGIN:STANDARD
TZOFFSETFROM:+0200
TZOFFSETTO:+0100
TZNAME:CET
DTSTART:20241027T010000
END:STANDARD
BEGIN:DAYLIGHT
TZOFFSETFROM:+0100
TZOFFSETTO:+0200
TZNAME:CEST
DTSTART:20250330T010000
END:DAYLIGHT
BEGIN:STANDARD
TZOFFSETFROM:+0200
TZOFFSETTO:+0100
TZNAME:CET
DTSTART:20251026T010000
END:STANDARD
BEGIN:DAYLIGHT
TZOFFSETFROM:+0100
TZOFFSETTO:+0200
TZNAME:CEST
DTSTART:20260329T010000
END:DAYLIGHT
BEGIN:STANDARD
TZOFFSETFROM:+0200
TZOFFSETTO:+0100
TZNAME:CET
DTSTART:20261025T010000
END:STANDARD
END:VTIMEZONE
BEGIN:VEVENT
DTSTART;TZID=Europe/Berlin:20250427T170000
DTEND;TZID=Europe/Berlin:20250427T173000
DTSTAMP:20260421T093550
CREATED:20250212T140736Z
LAST-MODIFIED:20250214T102823Z
UID:10000544-1745773200-1745775000@kalender.kloster-lorsch.de
SUMMARY:Kurzführung "Hingucker" - mittelalterliche Buchkunst
DESCRIPTION:Mittelalterliche Handschriften sind uns manchmal vollständig und manchmal nur als Fragment erhalten. Es gibt sie in gebundener Form oder auch als Schriftrolle (Rotulus)\, manche sind reichlich und farbenfroh mit eindrucksvollen Bildern verziert und andere ganz schlicht\, aber von sehr bedeutendem Inhalt. Einige dieser Werke sind so bekannt\, dass man von ihnen zumindest schon gehört hat\, z.B. das „Book of Kells“ oder der „Codex Manesse“. Andere sind nicht so bekannt\, aber nicht weniger interessant\, wie das „Stundenbuch der Maria von Burgund“ oder das „Krönungsevangeliar“. \nDiese kleine Vortragsreihe beschäftigt sich mit den spannenden Handschriften und zeigt die große Bandbreite mittelalterlicher Buchkunst. \nDabei greifen wir auf sogenannte “Faksimiles” unserer Sammlung zurück. Das sind detailgenaue\, fotografische Nachbildungen von originalen mittelalterlichen Handschriften. \nDer erste “Hingucker” am Sonntag\, 27. April um 17 Uhr beschäftigt sich mit der Gattung der Stundenbücher\, unteranderem auch mit dem der Maria von Burgund (Titelbild). Es gibt kaum eine andere Handschriftengattung\, die so zahlreich im Spätmittelalter vertreten ist wie die sogenannten Stundenbücher. Das sind Gebetsbücher für lesekundige\, reiche Laien. Sie gehören nicht nur zu den beliebtesten\, sondern auch zu den modischsten und schönsten Buchformen des Mittelalters. Maria von Burgund\, der Duc de Berry oder Maria Stuart\, sie alle besaßen extra für sie – teilweise von bekannten Künstlern der Zeit aufwendig mit Buchschmuck gestaltete – Stundenbücher. \nAltersstufe: Erwachsene \nTreffpunkt: Schaudepot Zehntscheune \nDauer: ca. 30 Minuten \nKostenfrei \nBild: Ausschnitt aus S34 des Stundenbuchs der Maria von Burgund\, 15 Jhd\, Österreichische Nationalbibliothek
URL:https://kalender.kloster-lorsch.de/kalender/kurzfuehrung-hingucker-mittelalterliche-buchkunst/
CATEGORIES:Klosterhügel,Themenführungen
ATTACH;FMTTYPE=image/jpeg:https://kalender.kloster-lorsch.de/wp-content/uploads/2025/02/Ausschnitt-aus-S34-des-Stundenbuchs-der-Maria-von-Burgund-15-Jhd-Oesterreichische-Nationalbibliothek-scaled.jpg
END:VEVENT
END:VCALENDAR