BEGIN:VCALENDAR
VERSION:2.0
PRODID:-//Kalender Kloster Lorsch - ECPv6.15.16//NONSGML v1.0//EN
CALSCALE:GREGORIAN
METHOD:PUBLISH
X-WR-CALNAME:Kalender Kloster Lorsch
X-ORIGINAL-URL:https://kalender.kloster-lorsch.de
X-WR-CALDESC:Veranstaltungen für Kalender Kloster Lorsch
REFRESH-INTERVAL;VALUE=DURATION:PT1H
X-Robots-Tag:noindex
X-PUBLISHED-TTL:PT1H
BEGIN:VTIMEZONE
TZID:Europe/Berlin
BEGIN:DAYLIGHT
TZOFFSETFROM:+0100
TZOFFSETTO:+0200
TZNAME:CEST
DTSTART:20240331T010000
END:DAYLIGHT
BEGIN:STANDARD
TZOFFSETFROM:+0200
TZOFFSETTO:+0100
TZNAME:CET
DTSTART:20241027T010000
END:STANDARD
BEGIN:DAYLIGHT
TZOFFSETFROM:+0100
TZOFFSETTO:+0200
TZNAME:CEST
DTSTART:20250330T010000
END:DAYLIGHT
BEGIN:STANDARD
TZOFFSETFROM:+0200
TZOFFSETTO:+0100
TZNAME:CET
DTSTART:20251026T010000
END:STANDARD
BEGIN:DAYLIGHT
TZOFFSETFROM:+0100
TZOFFSETTO:+0200
TZNAME:CEST
DTSTART:20260329T010000
END:DAYLIGHT
BEGIN:STANDARD
TZOFFSETFROM:+0200
TZOFFSETTO:+0100
TZNAME:CET
DTSTART:20261025T010000
END:STANDARD
END:VTIMEZONE
BEGIN:VEVENT
DTSTART;TZID=Europe/Berlin:20250502T110000
DTEND;TZID=Europe/Berlin:20250502T140000
DTSTAMP:20260421T123441
CREATED:20250107T151031Z
LAST-MODIFIED:20250127T133845Z
UID:10000401-1746183600-1746194400@kalender.kloster-lorsch.de
SUMMARY:Workshop: Backen im Herrenhof
DESCRIPTION:Dieser Workshop findet im Herrenhof Lauresham statt. Im Hörigenhaus wird gearbeitet: Teig ansetzen und kneten\, gehen lassen\, Brötchen formen\, Butter machen\, auch etwas Mehl wird selbst gemahlen. Das Backhaus wird befeuert und die Brötchen gebacken. Viel Arbeit – leckeres Ergebnis! Abschließend wird gemeinsam gegessen. \nWichtig: Nicht geeignet für Glutenallergiker:innen. \nAb 6 Jahre\, Kinder in Begleitung Erwachsener\nAnmeldung bis 25.04.\nTN: 5 (Min.) -15 (Max.)\nPreis: Kinder (bis 16 Jahre) 10 € | Erwachsene 16 € \n  \n 
URL:https://kalender.kloster-lorsch.de/kalender/workshop-backen-im-herrenhof/
LOCATION:Lauresham (BIZ)
CATEGORIES:Lauresham,Workshop
ATTACH;FMTTYPE=image/jpeg:https://kalender.kloster-lorsch.de/wp-content/uploads/2025/01/FamilienWS-Backen-im-Herrenhof-Bildnachweis-SG.jpg
END:VEVENT
END:VCALENDAR