BEGIN:VCALENDAR
VERSION:2.0
PRODID:-//Kalender Kloster Lorsch - ECPv6.15.16//NONSGML v1.0//EN
CALSCALE:GREGORIAN
METHOD:PUBLISH
X-ORIGINAL-URL:https://kalender.kloster-lorsch.de
X-WR-CALDESC:Veranstaltungen für Kalender Kloster Lorsch
REFRESH-INTERVAL;VALUE=DURATION:PT1H
X-Robots-Tag:noindex
X-PUBLISHED-TTL:PT1H
BEGIN:VTIMEZONE
TZID:Europe/Berlin
BEGIN:DAYLIGHT
TZOFFSETFROM:+0100
TZOFFSETTO:+0200
TZNAME:CEST
DTSTART:20240331T010000
END:DAYLIGHT
BEGIN:STANDARD
TZOFFSETFROM:+0200
TZOFFSETTO:+0100
TZNAME:CET
DTSTART:20241027T010000
END:STANDARD
BEGIN:DAYLIGHT
TZOFFSETFROM:+0100
TZOFFSETTO:+0200
TZNAME:CEST
DTSTART:20250330T010000
END:DAYLIGHT
BEGIN:STANDARD
TZOFFSETFROM:+0200
TZOFFSETTO:+0100
TZNAME:CET
DTSTART:20251026T010000
END:STANDARD
BEGIN:DAYLIGHT
TZOFFSETFROM:+0100
TZOFFSETTO:+0200
TZNAME:CEST
DTSTART:20260329T010000
END:DAYLIGHT
BEGIN:STANDARD
TZOFFSETFROM:+0200
TZOFFSETTO:+0100
TZNAME:CET
DTSTART:20261025T010000
END:STANDARD
END:VTIMEZONE
BEGIN:VEVENT
DTSTART;TZID=Europe/Berlin:20250510T140000
DTEND;TZID=Europe/Berlin:20250510T170000
DTSTAMP:20260421T185436
CREATED:20250107T150229Z
LAST-MODIFIED:20250107T151130Z
UID:10000398-1746885600-1746896400@kalender.kloster-lorsch.de
SUMMARY:Erwachsenenworkshop „Frischkäse selber machen“
DESCRIPTION:Wie wird aus Milch Käse? Und welche Tiere (und Pflanzen!) braucht man dafür? Am offenen Feuer lüften wir dieses Geheimnis und stellen unseren eigenen Frischkäse her. Bei einem Rundgang durch Lauresham sammeln wir dafür frische Kräuter und erkunden gemeinsam\, was die Menschen vor 1200 Jahren schon über Butter\, Joghurt und Käse wussten und welche Tiere man eigentlich melken kann. \nAltersstufe: Erwachsene\nTN: ab 5 Personen bis max. 15 Personen\nAnmeldeschluss: 2.5.\nPreis: Erwachsene 13 € | ermäßigt 8 €
URL:https://kalender.kloster-lorsch.de/kalender/erwachsenenworkshop-frischkaese-selber-machen-mai/
LOCATION:Lauresham (BIZ)
CATEGORIES:Lauresham,Workshop
ATTACH;FMTTYPE=image/jpeg:https://kalender.kloster-lorsch.de/wp-content/uploads/2025/01/ErwachsenenWS-Frischkaese-selber-machen-Bildnachweis-SG-DSC_0887.jpg
END:VEVENT
END:VCALENDAR