BEGIN:VCALENDAR
VERSION:2.0
PRODID:-//Kalender Kloster Lorsch - ECPv6.15.16//NONSGML v1.0//EN
CALSCALE:GREGORIAN
METHOD:PUBLISH
X-WR-CALNAME:Kalender Kloster Lorsch
X-ORIGINAL-URL:https://kalender.kloster-lorsch.de
X-WR-CALDESC:Veranstaltungen für Kalender Kloster Lorsch
REFRESH-INTERVAL;VALUE=DURATION:PT1H
X-Robots-Tag:noindex
X-PUBLISHED-TTL:PT1H
BEGIN:VTIMEZONE
TZID:Europe/Berlin
BEGIN:DAYLIGHT
TZOFFSETFROM:+0100
TZOFFSETTO:+0200
TZNAME:CEST
DTSTART:20240331T010000
END:DAYLIGHT
BEGIN:STANDARD
TZOFFSETFROM:+0200
TZOFFSETTO:+0100
TZNAME:CET
DTSTART:20241027T010000
END:STANDARD
BEGIN:DAYLIGHT
TZOFFSETFROM:+0100
TZOFFSETTO:+0200
TZNAME:CEST
DTSTART:20250330T010000
END:DAYLIGHT
BEGIN:STANDARD
TZOFFSETFROM:+0200
TZOFFSETTO:+0100
TZNAME:CET
DTSTART:20251026T010000
END:STANDARD
BEGIN:DAYLIGHT
TZOFFSETFROM:+0100
TZOFFSETTO:+0200
TZNAME:CEST
DTSTART:20260329T010000
END:DAYLIGHT
BEGIN:STANDARD
TZOFFSETFROM:+0200
TZOFFSETTO:+0100
TZNAME:CET
DTSTART:20261025T010000
END:STANDARD
END:VTIMEZONE
BEGIN:VEVENT
DTSTART;TZID=Europe/Berlin:20250625T090000
DTEND;TZID=Europe/Berlin:20250625T150000
DTSTAMP:20260419T233232
CREATED:20250625T091302Z
LAST-MODIFIED:20250625T091302Z
UID:10000555-1750842000-1750863600@kalender.kloster-lorsch.de
SUMMARY:Handsensenkurs
DESCRIPTION:Sicherer Umgang mit der Handsense\, inkl. Schärfen und Dengeln \nTeilnehmendenzahl: 5-10 \nAnmeldeschluss: 13.07. \nKosten: 50 € (direkt bei Kursleiter zu zahlen am Veranstaltungstag) \nVerpflegung in Eigenregie \nTreffpunkt: Besucherinformationszentrum \nBuchung: buchung@kloster-lorsch.de
URL:https://kalender.kloster-lorsch.de/kalender/handsensenkurs/
LOCATION:Freilichtlabor Lauresham
ATTACH;FMTTYPE=image/jpeg:https://kalender.kloster-lorsch.de/wp-content/uploads/2025/06/Handsensenkurs_2025-scaled.jpeg
END:VEVENT
BEGIN:VEVENT
DTSTART;TZID=Europe/Berlin:20250625T180000
DTEND;TZID=Europe/Berlin:20250625T193000
DTSTAMP:20260419T233232
CREATED:20250107T152739Z
LAST-MODIFIED:20250107T152739Z
UID:10000421-1750874400-1750879800@kalender.kloster-lorsch.de
SUMMARY:Sommerabendführung für Erwachsene „Kräutergarten mit Kostprobe“
DESCRIPTION:Zerstoßene Regenwürmer\, Schafdung\, Tollkirsche? Mittelalterliche Heilkunde mutet mitunter abschreckend\, ja lebensgefährlich an. Wie innovativ\, wirksam und schmackhaft sie aber sein kann\, wollen wir mit Ihnen erkunden: Bei einem abendlichen Rundgang durch den Lorscher Kräutergarten erfahren Sie Wissenswertes über bekannte und fast vergessene Heilpflanzen aus dem Lorscher Arzneibuch\, einem der ältesten erhaltenen Werke zur Klostermedizin und seit 2013 UNESCO-Weltdokumentenerbe. Diese Handschrift aus der Zeit Karls des Großen enthält viele Rezepte\, die modernen wissenschaftlichen Untersuchungen standhalten und uns auch heute noch Linderung verschaffen. Eine kleine Kostprobe soll natürlich nicht fehlen: Wie schmeckt Ihnen unser Lautertrank? \nTN: ab 5 Personen bis max. 15 Personen\nAnmeldeschluss: 18.6.\nPreis: 7 € | ermäßigt 5 €
URL:https://kalender.kloster-lorsch.de/kalender/sommerabendfuehrung-fuer-erwachsene-kraeutergarten-mit-kostprobe-2/
LOCATION:Museumszentrum
CATEGORIES:Klosterhügel,Themenführungen
ATTACH;FMTTYPE=image/jpeg:https://kalender.kloster-lorsch.de/wp-content/uploads/2025/01/Sommerabendfuehrung-f-Erwachsene-Kraeutergarten-mit-Kostprobe-Bildnachweis-Florian-Saum-IMG_20220725_122310.jpg
END:VEVENT
END:VCALENDAR