BEGIN:VCALENDAR
VERSION:2.0
PRODID:-//Kalender Kloster Lorsch - ECPv6.15.16//NONSGML v1.0//EN
CALSCALE:GREGORIAN
METHOD:PUBLISH
X-ORIGINAL-URL:https://kalender.kloster-lorsch.de
X-WR-CALDESC:Veranstaltungen für Kalender Kloster Lorsch
REFRESH-INTERVAL;VALUE=DURATION:PT1H
X-Robots-Tag:noindex
X-PUBLISHED-TTL:PT1H
BEGIN:VTIMEZONE
TZID:Europe/Berlin
BEGIN:DAYLIGHT
TZOFFSETFROM:+0100
TZOFFSETTO:+0200
TZNAME:CEST
DTSTART:20240331T010000
END:DAYLIGHT
BEGIN:STANDARD
TZOFFSETFROM:+0200
TZOFFSETTO:+0100
TZNAME:CET
DTSTART:20241027T010000
END:STANDARD
BEGIN:DAYLIGHT
TZOFFSETFROM:+0100
TZOFFSETTO:+0200
TZNAME:CEST
DTSTART:20250330T010000
END:DAYLIGHT
BEGIN:STANDARD
TZOFFSETFROM:+0200
TZOFFSETTO:+0100
TZNAME:CET
DTSTART:20251026T010000
END:STANDARD
BEGIN:DAYLIGHT
TZOFFSETFROM:+0100
TZOFFSETTO:+0200
TZNAME:CEST
DTSTART:20260329T010000
END:DAYLIGHT
BEGIN:STANDARD
TZOFFSETFROM:+0200
TZOFFSETTO:+0100
TZNAME:CET
DTSTART:20261025T010000
END:STANDARD
END:VTIMEZONE
BEGIN:VEVENT
DTSTART;TZID=Europe/Berlin:20250712T150000
DTEND;TZID=Europe/Berlin:20250712T163000
DTSTAMP:20260419T230214
CREATED:20250107T153600Z
LAST-MODIFIED:20250513T140811Z
UID:10000436-1752332400-1752337800@kalender.kloster-lorsch.de
SUMMARY:Mitmachführung: Schaf – Stoff – Kleidung
DESCRIPTION:Welche Arbeitsschritte sind zu tun\, damit die Kleidung der Menschen im Mittelalter entsteht? Das Webhaus im Freilichtlabor Lauresham ist der zentrale Ort der Textilproduktion. Hier können alle Schritte bis hin zum fertigen Kleidungsstück gezeigt werden – auch mit Hilfe der experimentellen Archäologie. Welche Spuren entdecken die Archäolog:innen heute von der Textilproduktion von damals? Und wie wurde das Webhaus im Freilichtlabor (re-)konstruiert? \nKommen Sie mit uns auf eine Reise durch das frühmittelalterliche Textilhandwerk und entdecken Sie ganz nebenbei auch Anknüpfungspunkte für das hier und heute. Denn auch unsere moderne Kleidung durchläuft vielfältige Produktionsschritte – nur nicht mehr vor unseren Augen\, sondern irgendwo in der globalisierten Welt. Wie kann hier Nachhaltigkeit gelingen? \nAltersstufe: ab 6 Jahre\, Kinder in Begleitung Erwachsener\nDie Führung findet ab 2 Personen statt (keine Anmeldung notwendig).\nMax. Teilnehmendenzahl: 25\nPlätze reservieren möglich: buchung@kloster-lorsch.de oder 06251/869200 (der reservierte Platz verfällt 20 Min. vor Führungsbeginn bei Nichterscheinen). \nPreis: 7 € | ermäßigt 5 € | Familienkarte 16\,50 € (2 Erw.\, max. 4 Kinder bis 16 Jahre)
URL:https://kalender.kloster-lorsch.de/kalender/mitmachfuehrung-schaf-stoff-kleidung/
CATEGORIES:Lauresham,Mitmachführung
ATTACH;FMTTYPE=image/jpeg:https://kalender.kloster-lorsch.de/wp-content/uploads/2025/01/Mitmachfuehrung-Schaf-Stoff-Kleidung-Bildnachweis-Florian-Saum-IMG_20230802_152038-quer.jpg
END:VEVENT
END:VCALENDAR