BEGIN:VCALENDAR
VERSION:2.0
PRODID:-//Kalender Kloster Lorsch - ECPv6.15.16//NONSGML v1.0//EN
CALSCALE:GREGORIAN
METHOD:PUBLISH
X-WR-CALNAME:Kalender Kloster Lorsch
X-ORIGINAL-URL:https://kalender.kloster-lorsch.de
X-WR-CALDESC:Veranstaltungen für Kalender Kloster Lorsch
REFRESH-INTERVAL;VALUE=DURATION:PT1H
X-Robots-Tag:noindex
X-PUBLISHED-TTL:PT1H
BEGIN:VTIMEZONE
TZID:Europe/Berlin
BEGIN:DAYLIGHT
TZOFFSETFROM:+0100
TZOFFSETTO:+0200
TZNAME:CEST
DTSTART:20240331T010000
END:DAYLIGHT
BEGIN:STANDARD
TZOFFSETFROM:+0200
TZOFFSETTO:+0100
TZNAME:CET
DTSTART:20241027T010000
END:STANDARD
BEGIN:DAYLIGHT
TZOFFSETFROM:+0100
TZOFFSETTO:+0200
TZNAME:CEST
DTSTART:20250330T010000
END:DAYLIGHT
BEGIN:STANDARD
TZOFFSETFROM:+0200
TZOFFSETTO:+0100
TZNAME:CET
DTSTART:20251026T010000
END:STANDARD
BEGIN:DAYLIGHT
TZOFFSETFROM:+0100
TZOFFSETTO:+0200
TZNAME:CEST
DTSTART:20260329T010000
END:DAYLIGHT
BEGIN:STANDARD
TZOFFSETFROM:+0200
TZOFFSETTO:+0100
TZNAME:CET
DTSTART:20261025T010000
END:STANDARD
END:VTIMEZONE
BEGIN:VEVENT
DTSTART;TZID=Europe/Berlin:20251011T110000
DTEND;TZID=Europe/Berlin:20251011T140000
DTSTAMP:20260419T141230
CREATED:20250107T162140Z
LAST-MODIFIED:20250107T162140Z
UID:10000482-1760180400-1760191200@kalender.kloster-lorsch.de
SUMMARY:Erwachsenenworkshop „Nachgekocht“ - Rezepte aus dem Lorscher Arzneibuch
DESCRIPTION:Das Lorscher Arzneibuch ist das älteste uns bekannte medizinische Buch des abendländischen Mittelalters und markiert den Beginn der Epoche der Klostermedizin. 482 Rezepte zeigen\, wie sehr man zur Zeit Karls des Großen das Wissen der Antike zu bewahren und zu nutzen wusste. Viele dieser Rezepturen haben sich seit Jahrtausenden bewährt oder bieten spannende Erkenntnisse für die moderne Medizin. Auf einem Rundgang durch unseren Kräutergarten lernen Sie die wichtigsten Arzneipflanzen der Klostermedizin kennen und tauchen ein in die Geschichte der frühmittelalterlichen Heilkunde. Gemeinsam stellen wir zwei ausgewählte Original-Rezepte aus dem Lorscher Arzneibuch her\, die vielleicht bald einen festen Platz in Ihrer Hausapotheke finden! \nTN: ab 5 Personen bis max. 20 Personen\nAnmeldeschluss: Fr\, 2.10.\nPreis: Erwachsene 13 € | ermäßigt 8 €
URL:https://kalender.kloster-lorsch.de/kalender/erwachsenenworkshop-nachgekocht-rezepte-aus-dem-lorscher-arzneibuch-oktober/
LOCATION:Museumszentrum
CATEGORIES:Klosterhügel,Workshop
ATTACH;FMTTYPE=image/webp:https://kalender.kloster-lorsch.de/wp-content/uploads/2024/01/Nachgekocht-IMG_20220725_1227422.jpg.webp
END:VEVENT
END:VCALENDAR