BEGIN:VCALENDAR
VERSION:2.0
PRODID:-//Kalender Kloster Lorsch - ECPv6.15.16//NONSGML v1.0//EN
CALSCALE:GREGORIAN
METHOD:PUBLISH
X-WR-CALNAME:Kalender Kloster Lorsch
X-ORIGINAL-URL:https://kalender.kloster-lorsch.de
X-WR-CALDESC:Veranstaltungen für Kalender Kloster Lorsch
REFRESH-INTERVAL;VALUE=DURATION:PT1H
X-Robots-Tag:noindex
X-PUBLISHED-TTL:PT1H
BEGIN:VTIMEZONE
TZID:Europe/Berlin
BEGIN:DAYLIGHT
TZOFFSETFROM:+0100
TZOFFSETTO:+0200
TZNAME:CEST
DTSTART:20240331T010000
END:DAYLIGHT
BEGIN:STANDARD
TZOFFSETFROM:+0200
TZOFFSETTO:+0100
TZNAME:CET
DTSTART:20241027T010000
END:STANDARD
BEGIN:DAYLIGHT
TZOFFSETFROM:+0100
TZOFFSETTO:+0200
TZNAME:CEST
DTSTART:20250330T010000
END:DAYLIGHT
BEGIN:STANDARD
TZOFFSETFROM:+0200
TZOFFSETTO:+0100
TZNAME:CET
DTSTART:20251026T010000
END:STANDARD
BEGIN:DAYLIGHT
TZOFFSETFROM:+0100
TZOFFSETTO:+0200
TZNAME:CEST
DTSTART:20260329T010000
END:DAYLIGHT
BEGIN:STANDARD
TZOFFSETFROM:+0200
TZOFFSETTO:+0100
TZNAME:CET
DTSTART:20261025T010000
END:STANDARD
END:VTIMEZONE
BEGIN:VEVENT
DTSTART;TZID=Europe/Berlin:20251014T140000
DTEND;TZID=Europe/Berlin:20251014T170000
DTSTAMP:20260419T170311
CREATED:20250903T093054Z
LAST-MODIFIED:20250903T100930Z
UID:10000559-1760450400-1760461200@kalender.kloster-lorsch.de
SUMMARY:Ferienworkshop: Alles Käse!?!
DESCRIPTION:Wie wird aus Milch Käse? Und welche Tiere (und Pflanzen!) braucht man dafür? Heute lüften wir gemeinsam dieses Geheimnis und stellen unseren eigenen Frischkäse her. Bei einem Rundgang durch Lauresham sammeln wir dafür frische Kräuter und erkunden gemeinsam\, was die Menschen vor 1200 Jahren schon über Butter\, Joghurt und Käse wussten und welche Tiere man eigentlich melken kann. \nAltersstufe: für Kinder von 8-12 Jahren \nTeilnehmendenzahl: ab 6 Personen bis max. 15 Personen \nKursgebühren: 18\,50 € p. P. + 3 € Materialkosten \nTreffpunkt: Besucherinformationszentrum \nAnmeldeschluss: 10. Oktober | kostenfreie Stornierung bis 10 Werktage vor Termin \nAnmeldung unter www.kvhs-bergstrasse.de | 06251-17296-0
URL:https://kalender.kloster-lorsch.de/kalender/ferienworkshop-alles-kaese/
LOCATION:Freilichtlabor Lauresham
ATTACH;FMTTYPE=image/jpeg:https://kalender.kloster-lorsch.de/wp-content/uploads/2025/01/ErwachsenenWS-Frischkaese-selber-machen-Bildnachweis-SG-DSC_0887.jpg
END:VEVENT
BEGIN:VEVENT
DTSTART;TZID=Europe/Berlin:20251014T143000
DTEND;TZID=Europe/Berlin:20251014T160000
DTSTAMP:20260419T170311
CREATED:20250107T162244Z
LAST-MODIFIED:20250513T140924Z
UID:10000483-1760452200-1760457600@kalender.kloster-lorsch.de
SUMMARY:Familienführung auf dem Klosterhügel
DESCRIPTION:Heute sind vom einstmals reichen Kloster Lorsch nur noch wenige Gebäude erhalten und viele Schätze der Vergangenheit für immer verloren gegangen. Doch wir wissen mehr über das Leben an diesem Ort\, als es auf den ersten Blick den Anschein hat. Kommt mit uns auf eine Entdeckungsreise und erfahrt\, wie das Leben in einem mittelalterlichen Königskloster war. Was machten die Kinder\, die von Ihren Eltern im Kloster abgegeben wurden? Warum war das „Stille Örtchen“ gar nicht still? Welche Spuren haben die Menschen der damaligen Zeit auf dem Klosterhügel hinterlassen? Entdeckt mit uns Geschichte und Geschichten rund um das Kloster Lorsch. \nAltersstufe: Vorschule (ab 5 Jahre)\nDie Führung findet ab 2 Personen statt (keine Anmeldung notwendig).\nMax. Teilnehmendenzahl: 25\nPlätze reservieren möglich: buchung@kloster-lorsch.de oder 06251/869200 (der reservierte Platz verfällt 20 Min. vor Führungsbeginn bei Nichterscheinen). \nPreis: 7 € | ermäßigt 5 € | Familienkarte 16\,50 € (2 Erw.\, max. 4 Kinder bis 16 Jahre)
URL:https://kalender.kloster-lorsch.de/kalender/familienfuehrung-auf-dem-klosterhuegel-oktober/
CATEGORIES:Familienführung,Klosterhügel
ATTACH;FMTTYPE=image/jpeg:https://kalender.kloster-lorsch.de/wp-content/uploads/2025/01/Familienfuehrung-auf-dem-Klosterhuegel-Bildnachweis-Michael-C-Thumm-2023-10-01_1411_D8E4141-ausschnitt.jpg
END:VEVENT
END:VCALENDAR