BEGIN:VCALENDAR
VERSION:2.0
PRODID:-//Kalender Kloster Lorsch - ECPv6.15.16//NONSGML v1.0//EN
CALSCALE:GREGORIAN
METHOD:PUBLISH
X-WR-CALNAME:Kalender Kloster Lorsch
X-ORIGINAL-URL:https://kalender.kloster-lorsch.de
X-WR-CALDESC:Veranstaltungen für Kalender Kloster Lorsch
REFRESH-INTERVAL;VALUE=DURATION:PT1H
X-Robots-Tag:noindex
X-PUBLISHED-TTL:PT1H
BEGIN:VTIMEZONE
TZID:Europe/Berlin
BEGIN:DAYLIGHT
TZOFFSETFROM:+0100
TZOFFSETTO:+0200
TZNAME:CEST
DTSTART:20240331T010000
END:DAYLIGHT
BEGIN:STANDARD
TZOFFSETFROM:+0200
TZOFFSETTO:+0100
TZNAME:CET
DTSTART:20241027T010000
END:STANDARD
BEGIN:DAYLIGHT
TZOFFSETFROM:+0100
TZOFFSETTO:+0200
TZNAME:CEST
DTSTART:20250330T010000
END:DAYLIGHT
BEGIN:STANDARD
TZOFFSETFROM:+0200
TZOFFSETTO:+0100
TZNAME:CET
DTSTART:20251026T010000
END:STANDARD
BEGIN:DAYLIGHT
TZOFFSETFROM:+0100
TZOFFSETTO:+0200
TZNAME:CEST
DTSTART:20260329T010000
END:DAYLIGHT
BEGIN:STANDARD
TZOFFSETFROM:+0200
TZOFFSETTO:+0100
TZNAME:CET
DTSTART:20261025T010000
END:STANDARD
END:VTIMEZONE
BEGIN:VEVENT
DTSTART;TZID=Europe/Berlin:20251026T100000
DTEND;TZID=Europe/Berlin:20251026T170000
DTSTAMP:20260420T043125
CREATED:20250107T162856Z
LAST-MODIFIED:20250902T093213Z
UID:10000488-1761472800-1761498000@kalender.kloster-lorsch.de
SUMMARY:Thementag Ernährung im Frühmittelalter mit Herbstfest
DESCRIPTION:Das Herbstfest im Freilichtlabor Lauresham ist mit vielen Aktionen und Vorführungen der letzte große Thementag des Jahres 2025. \nIm Fokus steht bei diesem Herbstfest die Ernährung der Menschen im Mittelalter. Was war der Unterschied zwischen der Alltagskost der arbeitenden Hörigen und den Speisen des wohlhabenden Hofherrn? Wie wurde Nahrung verarbeitet und wie wurde sie in einer Welt ohne moderne Kühlanlagen haltbar gemacht? Woher kamen im Frühmittelalter exotische Gewürze wie Pfeffer? Zu all diesen Fragen wird es Vorführungen und Infostationen mit Objekten zum Anfassen geben. \nDer gesamte Hof wird wieder von der Reenactment-Gruppe „Familia Carolina“ belebt und besonders für Kinder werden wieder verschiedene Mitmachangebote angeboten. \nSpeise- und Getränkeangebote auf dem Hof. \nOrt: Freilichtlabor Lauresham\nEintritt: 5 € | ermäßigt 3 € | Familienkarte 11\,50 € (2 Erw.\, max. 4 Kinder bis 16 Jahre)
URL:https://kalender.kloster-lorsch.de/kalender/herbstfest-in-lauresham-2025/
LOCATION:Freilichtlabor Lauresham
CATEGORIES:Allgemeines,Lauresham
ATTACH;FMTTYPE=image/jpeg:https://kalender.kloster-lorsch.de/wp-content/uploads/2025/01/Thementag-Ernaehrung-im-Fruehmittelalter-mit-Herbstfest-Bildnachweis-Michael-C-Thumm.jpg
END:VEVENT
END:VCALENDAR