BEGIN:VCALENDAR
VERSION:2.0
PRODID:-//Kalender Kloster Lorsch - ECPv6.15.16//NONSGML v1.0//EN
CALSCALE:GREGORIAN
METHOD:PUBLISH
X-WR-CALNAME:Kalender Kloster Lorsch
X-ORIGINAL-URL:https://kalender.kloster-lorsch.de
X-WR-CALDESC:Veranstaltungen für Kalender Kloster Lorsch
REFRESH-INTERVAL;VALUE=DURATION:PT1H
X-Robots-Tag:noindex
X-PUBLISHED-TTL:PT1H
BEGIN:VTIMEZONE
TZID:Europe/Berlin
BEGIN:DAYLIGHT
TZOFFSETFROM:+0100
TZOFFSETTO:+0200
TZNAME:CEST
DTSTART:20240331T010000
END:DAYLIGHT
BEGIN:STANDARD
TZOFFSETFROM:+0200
TZOFFSETTO:+0100
TZNAME:CET
DTSTART:20241027T010000
END:STANDARD
BEGIN:DAYLIGHT
TZOFFSETFROM:+0100
TZOFFSETTO:+0200
TZNAME:CEST
DTSTART:20250330T010000
END:DAYLIGHT
BEGIN:STANDARD
TZOFFSETFROM:+0200
TZOFFSETTO:+0100
TZNAME:CET
DTSTART:20251026T010000
END:STANDARD
BEGIN:DAYLIGHT
TZOFFSETFROM:+0100
TZOFFSETTO:+0200
TZNAME:CEST
DTSTART:20260329T010000
END:DAYLIGHT
BEGIN:STANDARD
TZOFFSETFROM:+0200
TZOFFSETTO:+0100
TZNAME:CET
DTSTART:20261025T010000
END:STANDARD
END:VTIMEZONE
BEGIN:VEVENT
DTSTART;TZID=Europe/Berlin:20251108T090000
DTEND;TZID=Europe/Berlin:20251109T170000
DTSTAMP:20260420T120551
CREATED:20250220T132749Z
LAST-MODIFIED:20250812T100927Z
UID:10000548-1762592400-1762707600@kalender.kloster-lorsch.de
SUMMARY:AUSGEBUCHT - Bogenbaukurs für Erwachsene
DESCRIPTION:Traditioneller Bogenbau \nSeit tausenden von Jahren haben unsere Vorfahren mit einfachen Werkzeugen aus dem was sie hatten einfache Jagdwaffen hergestellt. \nDie Teilnehmer bauen ihre eigenen Pfeile und Bogen aus natürlichen Materialien\, nach historisch belegten Funden\, mit einfachen Handwerkzeugen.\nIn diesem 2 Tage dauernden Seminar erlernen sie nicht nur die Herstellung\, sondern auch die richtige Handhabung der selbst gebauten Bogen.\nZusätzlich bringen die Seminarleiter jede Menge Wissen über verschiedene Bogen Arten und deren Geschichte mit.\nEs erwarten sie 2 spannende Tage mit jeder Menge interessanter Fakten und eine Fülle wissenswerter Anekdoten über die Historie von Pfeil und Bogen und nicht zuletzt die Erfahrung seinen eigenen Bogen unter fachkundiger Anleitung geschaffen zu haben. \nSa 9-18 Uhr + So 9-17 Uhr \nDie Kursgebühr beträgt 245\,00€ (inkl. Material).\nAnmeldung bis 31.10.25 \nDie Gebühr ist zu Kursbeginn direkt an die Kursleiter (Freye Bogner) zu entrichten. \nWeitere Informationen zu den Kursleitern: http://www.freye-bogner.de/ \n 
URL:https://kalender.kloster-lorsch.de/kalender/bogenbaukurs-fuer-erwachsene-nov/
LOCATION:Lauresham (BIZ)
CATEGORIES:Klosterhügel,Zehntscheune
ATTACH;FMTTYPE=image/jpeg:https://kalender.kloster-lorsch.de/wp-content/uploads/2024/12/Bogenbau.jpg
END:VEVENT
BEGIN:VEVENT
DTSTART;TZID=Europe/Berlin:20251108T100000
DTEND;TZID=Europe/Berlin:20251108T100000
DTSTAMP:20260420T120551
CREATED:20250919T105826Z
LAST-MODIFIED:20251105T125605Z
UID:10000562-1762596000-1762596000@kalender.kloster-lorsch.de
SUMMARY:Zugeignungs- und Zugleistungsprüfung für Rinder
DESCRIPTION:Die zweite offizielle Leistungsprüfung für Zugrinder\, durchgeführt durch das zum Freilichtlabor Lauresham gehörige Zentrum für Zugrinderforschung. \nAnmeldung: c.kropp@kloster-lorsch.de
URL:https://kalender.kloster-lorsch.de/kalender/zugeignungs-und-zugleistungspruefung-fuer-rinder/
LOCATION:Lauresham (BIZ)
CATEGORIES:Allgemeines,Lauresham
ATTACH;FMTTYPE=image/jpeg:https://kalender.kloster-lorsch.de/wp-content/uploads/2025/09/2020-09-20_1218_D859500.jpg
END:VEVENT
END:VCALENDAR