BEGIN:VCALENDAR
VERSION:2.0
PRODID:-//Kalender Kloster Lorsch - ECPv6.15.16//NONSGML v1.0//EN
CALSCALE:GREGORIAN
METHOD:PUBLISH
X-ORIGINAL-URL:https://kalender.kloster-lorsch.de
X-WR-CALDESC:Veranstaltungen für Kalender Kloster Lorsch
REFRESH-INTERVAL;VALUE=DURATION:PT1H
X-Robots-Tag:noindex
X-PUBLISHED-TTL:PT1H
BEGIN:VTIMEZONE
TZID:Europe/Berlin
BEGIN:DAYLIGHT
TZOFFSETFROM:+0100
TZOFFSETTO:+0200
TZNAME:CEST
DTSTART:20240331T010000
END:DAYLIGHT
BEGIN:STANDARD
TZOFFSETFROM:+0200
TZOFFSETTO:+0100
TZNAME:CET
DTSTART:20241027T010000
END:STANDARD
BEGIN:DAYLIGHT
TZOFFSETFROM:+0100
TZOFFSETTO:+0200
TZNAME:CEST
DTSTART:20250330T010000
END:DAYLIGHT
BEGIN:STANDARD
TZOFFSETFROM:+0200
TZOFFSETTO:+0100
TZNAME:CET
DTSTART:20251026T010000
END:STANDARD
BEGIN:DAYLIGHT
TZOFFSETFROM:+0100
TZOFFSETTO:+0200
TZNAME:CEST
DTSTART:20260329T010000
END:DAYLIGHT
BEGIN:STANDARD
TZOFFSETFROM:+0200
TZOFFSETTO:+0100
TZNAME:CET
DTSTART:20261025T010000
END:STANDARD
END:VTIMEZONE
BEGIN:VEVENT
DTSTART;TZID=Europe/Berlin:20251122T090000
DTEND;TZID=Europe/Berlin:20251123T170000
DTSTAMP:20260420T205310
CREATED:20250613T155844Z
LAST-MODIFIED:20251106T145024Z
UID:10000554-1763802000-1763917200@kalender.kloster-lorsch.de
SUMMARY:AUSGEBUCHT - Bogenbaukurs für Erwachsene
DESCRIPTION:Traditioneller Bogenbau \nSeit tausenden von Jahren haben unsere Vorfahren mit einfachen Werkzeugen aus dem was sie hatten einfache Jagdwaffen hergestellt. \nDie Teilnehmer bauen ihre eigenen Pfeile und Bogen aus natürlichen Materialien\, nach historisch belegten Funden\, mit einfachen Handwerkzeugen.\nIn diesem 2 Tage dauernden Seminar erlernen sie nicht nur die Herstellung\, sondern auch die richtige Handhabung der selbst gebauten Bogen.\nZusätzlich bringen die Seminarleiter jede Menge Wissen über verschiedene Bogen Arten und deren Geschichte mit.\nEs erwarten sie 2 spannende Tage mit jeder Menge interessanter Fakten und eine Fülle wissenswerter Anekdoten über die Historie von Pfeil und Bogen und nicht zuletzt die Erfahrung seinen eigenen Bogen unter fachkundiger Anleitung geschaffen zu haben. \nSa 9-18 Uhr + So 9-17 Uhr \nAnmeldeschluss: FR\, 14.11.2025 \nDie Kursgebühr beträgt 245\,00€ (inkl. Material). \nDie Gebühr ist zu Kursbeginn direkt an die Kursleiter (Freye Bogner) zu entrichten. \nWeitere Informationen zu den Kursleitern: http://www.freye-bogner.de/ \n 
URL:https://kalender.kloster-lorsch.de/kalender/bogenbaukurs-fuer-erwachsene-2/
LOCATION:Lauresham (BIZ)
CATEGORIES:Klosterhügel,Zehntscheune
ATTACH;FMTTYPE=image/jpeg:https://kalender.kloster-lorsch.de/wp-content/uploads/2024/12/Bogenbau.jpg
END:VEVENT
BEGIN:VEVENT
DTSTART;TZID=Europe/Berlin:20251123T110000
DTEND;TZID=Europe/Berlin:20251123T170000
DTSTAMP:20260420T205310
CREATED:20250107T163550Z
LAST-MODIFIED:20250130T082844Z
UID:10000492-1763895600-1763917200@kalender.kloster-lorsch.de
SUMMARY:Erwachsenenworkshop: Ledertaschen herstellen und besticken
DESCRIPTION:Nicht viele Alltagsgegenstände aus Leder und Stoff haben die letzten 1500 Jahre überlebt und können heute begutachtet und bewundert werden. Die wenigen mittelalterlichen Taschen(-fragmente) und Stickereien auf Gewändern und Schuhen sind die Vorbilder für diesen Workshop. In gemütlicher Atmosphäre und mit viel Zeit\, Geduld und Kreativität kann sich jede teilnehmende Person ihre eigene kleine Ledertaschen designen\, herstellen und nach Wunsch besticken. Werkzeuge und Setting sind modern\, die Techniken der verschiedenen handwerklichen Prozesse haben sich im Laufe vieler Jahrhunderte jedoch nicht verändert. Wer Lust bekommen hat\, für sich oder als Geschenk kleinere Umhängetaschen\, Handyhüllen\, Geldbörsen\, Brillenetuis oder ähnliches zu fertigen\, kann sich bis Freitag\, den 14. 11. anmelden. \nFür Tee und Kaffee ist gesorgt\, bitte an eine kleine Stärkung für Zwischendurch denken. \nAltersstufe: Erwachsene und Jugendliche ab 14\nAnmeldeschluss: Fr 14.11.\nDauer: 6 Stunden\nPreis: 35 € + Materialkosten (je nach Verbrauch 5-15 €)
URL:https://kalender.kloster-lorsch.de/kalender/erwachsenenworkshop-ledertaschen-herstellen-und-besticken-november/
LOCATION:Lauresham (BIZ)
CATEGORIES:Lauresham,Workshop
ATTACH;FMTTYPE=image/jpeg:https://kalender.kloster-lorsch.de/wp-content/uploads/2024/09/IMG_0880_5zu4.jpg
END:VEVENT
END:VCALENDAR