BEGIN:VCALENDAR
VERSION:2.0
PRODID:-//Kalender Kloster Lorsch - ECPv6.15.16//NONSGML v1.0//EN
CALSCALE:GREGORIAN
METHOD:PUBLISH
X-ORIGINAL-URL:https://kalender.kloster-lorsch.de
X-WR-CALDESC:Veranstaltungen für Kalender Kloster Lorsch
REFRESH-INTERVAL;VALUE=DURATION:PT1H
X-Robots-Tag:noindex
X-PUBLISHED-TTL:PT1H
BEGIN:VTIMEZONE
TZID:Europe/Berlin
BEGIN:DAYLIGHT
TZOFFSETFROM:+0100
TZOFFSETTO:+0200
TZNAME:CEST
DTSTART:20250330T010000
END:DAYLIGHT
BEGIN:STANDARD
TZOFFSETFROM:+0200
TZOFFSETTO:+0100
TZNAME:CET
DTSTART:20251026T010000
END:STANDARD
BEGIN:DAYLIGHT
TZOFFSETFROM:+0100
TZOFFSETTO:+0200
TZNAME:CEST
DTSTART:20260329T010000
END:DAYLIGHT
BEGIN:STANDARD
TZOFFSETFROM:+0200
TZOFFSETTO:+0100
TZNAME:CET
DTSTART:20261025T010000
END:STANDARD
BEGIN:DAYLIGHT
TZOFFSETFROM:+0100
TZOFFSETTO:+0200
TZNAME:CEST
DTSTART:20270328T010000
END:DAYLIGHT
BEGIN:STANDARD
TZOFFSETFROM:+0200
TZOFFSETTO:+0100
TZNAME:CET
DTSTART:20271031T010000
END:STANDARD
END:VTIMEZONE
BEGIN:VEVENT
DTSTART;TZID=Europe/Berlin:20260609T180000
DTEND;TZID=Europe/Berlin:20260609T193000
DTSTAMP:20260421T212326
CREATED:20251107T135355Z
LAST-MODIFIED:20251107T135355Z
UID:10000641-1781028000-1781033400@kalender.kloster-lorsch.de
SUMMARY:Kräutergarten mit Kostprobe
DESCRIPTION:Zerstoßene Regenwürmer\, Schafdung\, Tollkirsche? Mittelalterliche Heilkunde mutet mitunter abschreckend\, ja lebensgefährlich an. Wie innovativ\, wirksam und schmackhaft sie aber sein kann\, wollen wir mit Ihnen erkunden: Bei einem abendlichen Rundgang durch den Lorscher Kräutergarten erfahren Sie Wissenswertes über bekannte und fast vergessene Heilpflanzen aus dem Lorscher Arzneibuch\, einem der ältesten erhaltenen Werke zur Klostermedizin und seit 2013 UNESCO-Weltdokumentenerbe. Diese Handschrift aus der Zeit Karls des Großen enthält viele Rezepte\, die modernen wissenschaftlichen Untersuchungen standhalten und uns auch heute noch Linderung verschaffen. Eine kleine Kostprobe soll natürlich nicht fehlen: Wie schmeckt Ihnen unser Lautertrank? \nAltersstufe: Erwachsene\nAnmeldung bis Mi 3.6.: buchung@kloster-lorsch.de | 06251 869200\nFindet ab 5 Personen statt (bis max. 15 Personen)\nPreis: 7 € | ermäßigt 5 €\nTreffpunkt: Kasse im Museumszentrum (MUZ) am Klostergelände \nPreise Stand 01.10.2025\, Änderungen vorbehalten.
URL:https://kalender.kloster-lorsch.de/kalender/kraeutergarten-mit-kostprobe/
LOCATION:Museumszentrum Kräutergarten
CATEGORIES:Erwachsenenführung,Klosterhügel
ATTACH;FMTTYPE=image/jpeg:https://kalender.kloster-lorsch.de/wp-content/uploads/2025/11/sommerabenfuehrung-kraeutergarten-Bildnachweis-Frank-Jaeger-DSC9337-scaled.jpg
END:VEVENT
END:VCALENDAR