BEGIN:VCALENDAR
VERSION:2.0
PRODID:-//Kalender Kloster Lorsch - ECPv6.15.16//NONSGML v1.0//EN
CALSCALE:GREGORIAN
METHOD:PUBLISH
X-WR-CALNAME:Kalender Kloster Lorsch
X-ORIGINAL-URL:https://kalender.kloster-lorsch.de
X-WR-CALDESC:Veranstaltungen für Kalender Kloster Lorsch
REFRESH-INTERVAL;VALUE=DURATION:PT1H
X-Robots-Tag:noindex
X-PUBLISHED-TTL:PT1H
BEGIN:VTIMEZONE
TZID:Europe/Berlin
BEGIN:DAYLIGHT
TZOFFSETFROM:+0100
TZOFFSETTO:+0200
TZNAME:CEST
DTSTART:20250330T010000
END:DAYLIGHT
BEGIN:STANDARD
TZOFFSETFROM:+0200
TZOFFSETTO:+0100
TZNAME:CET
DTSTART:20251026T010000
END:STANDARD
BEGIN:DAYLIGHT
TZOFFSETFROM:+0100
TZOFFSETTO:+0200
TZNAME:CEST
DTSTART:20260329T010000
END:DAYLIGHT
BEGIN:STANDARD
TZOFFSETFROM:+0200
TZOFFSETTO:+0100
TZNAME:CET
DTSTART:20261025T010000
END:STANDARD
BEGIN:DAYLIGHT
TZOFFSETFROM:+0100
TZOFFSETTO:+0200
TZNAME:CEST
DTSTART:20270328T010000
END:DAYLIGHT
BEGIN:STANDARD
TZOFFSETFROM:+0200
TZOFFSETTO:+0100
TZNAME:CET
DTSTART:20271031T010000
END:STANDARD
END:VTIMEZONE
BEGIN:VEVENT
DTSTART;VALUE=DATE:20260613
DTEND;VALUE=DATE:20260615
DTSTAMP:20260422T014259
CREATED:20260219T142408Z
LAST-MODIFIED:20260312T101732Z
UID:10000755-1781308800-1781481599@kalender.kloster-lorsch.de
SUMMARY:Althochdeutsch für Anfänger- Ein kleiner Sprachkurs
DESCRIPTION:Ein Reisesprachkurs übers Wochenende? Wir nehmen Sie mit auf eine Zeitreise – mehr als tausend Jahre zurück in die Epoche\, in der die ersten Zeugnisse der Volkssprache entstanden! Wie klang die deutsche Sprache des Frühmittelalters? Kennen Sie das erste deutsche Buch oder den ersten Dichter unserer Literaturgeschichte? Entdecken Sie die althochdeutsche Epoche anhand ihrer Texte! \nLernen Sie die Grundzüge der althochdeutschen Sprache kennen und schauen Sie in ihre bekanntesten Zeugnisse: Zaubersprüche und Heldenlieder\, Bibelepik\, Wissenschaftsliteratur und Glossare. Dabei wird auch die Lorscher Überlieferung in den Fokus genommen. In spielerischer Form erarbeiten Sie sich ein kleines thematisches Vokabular zu Haus und Hof\, Essen und Trinken\, Tieren und Pflanzen und allerhand mehr. \nSamstag/Sonntag\, 13. und 14. Juni 2026\, jeweils 10.00 bis 17.00 Uhr \nAnmeldeschluss: 8. Juni 2026 \nUnkostenbeitrag: 10 € (für beide Tage) \n 
URL:https://kalender.kloster-lorsch.de/kalender/althochdeutsch-fuer-anfaenger-ein-kleiner-sprachkurs/
LOCATION:Paul-Schnitzer-Saal
CATEGORIES:Allgemeines,Gesamtes Welterbe
ATTACH;FMTTYPE=image/jpeg:https://kalender.kloster-lorsch.de/wp-content/uploads/2026/02/Leipold_1-scaled-e1773239633791.jpg
END:VEVENT
BEGIN:VEVENT
DTSTART;TZID=Europe/Berlin:20260614T100000
DTEND;TZID=Europe/Berlin:20260614T170000
DTSTAMP:20260422T014259
CREATED:20251219T100854Z
LAST-MODIFIED:20260209T082631Z
UID:10000725-1781431200-1781456400@kalender.kloster-lorsch.de
SUMMARY:Sonderöffnungstag zum Thema Traditionelle Heuwirtschaft
DESCRIPTION:Sei es ein Handsensenkurs\, der Bau einer traditionellen Heuberge\, der Transport von Heu mit dem Leiterwagen oder auch unterschiedliche Möglichkeiten der Heutrocknung: an diesem Offenen Sonntag dreht sich alles rund um das Thema Heuwirtschaft. \nEintritt: 8 € | ermäßigt 6 € | Familienkarte 19 € (2 Erw.\, max. 4 Kinder bis 16 Jahre)\nOrt: Freilichtlabor Lauresham \nTipp: \nHeute finden auch zwei öffentliche Führungen im Freilichtlabor Lauresham statt (11 Uhr | 14 Uhr\, ab 2 Pers.\, ca. 90 Min.\, 3 € Aufpreis pro Eintrittsticket) \nPreise Stand 17.12.2025\, Änderungen vorbehalten
URL:https://kalender.kloster-lorsch.de/kalender/sonderoeffnungstag-zum-thema-traditionelle-heuwirtschaft/
LOCATION:Freilichtlabor Lauresham
CATEGORIES:Lauresham,Offenes Lauresham
ATTACH;FMTTYPE=image/jpeg:https://kalender.kloster-lorsch.de/wp-content/uploads/2025/11/Offenes-Lauresham-Bildnachweis-Michael-C-Thumm-2023-05-07_1237_D8560161.jpg
END:VEVENT
BEGIN:VEVENT
DTSTART;TZID=Europe/Berlin:20260614T180000
DTEND;TZID=Europe/Berlin:20260614T180000
DTSTAMP:20260422T014259
CREATED:20260219T142539Z
LAST-MODIFIED:20260312T095635Z
UID:10000756-1781460000-1781460000@kalender.kloster-lorsch.de
SUMMARY:Althochdeutsches rund um das Thema Pflanzen
DESCRIPTION:Seit von der Forschungsstelle „Althochdeutsches Wörterbuch“ im Garten der Sächsischen Akademie ein karolingerzeitlicher Heilkräutergarten nach Walahfrid Strabos Gedicht De cultura hortoum angelegt wurde\, können Interessierte dort Wissenswertes zu den Gartenquellen des Mittelalters\, den botanischen Hintergründen\, der medizinischen Verwendung und vor allem den Namen der Pflanzen im frühesten Deutsch erfahren. \nTauchen Sie heute im Lorscher Kräutergarten in alle diese Themen mit uns ein! Wir bringen den lexikographischen Erfahrungsschatz aus zahlreichen Artikeln zu althochdeutschen Pflanzennamen für Sie mit. In einem Spaziergang entlang der Pflanzenbeete kommen dazu auch christlicher Symbolgehalt\, magische Vorstellungen des Volksglaubens oder das Auftreten in antiker Überlieferung zur Sprache. \nEintritt frei! Eine Spende wird erbeten!
URL:https://kalender.kloster-lorsch.de/kalender/althochdeutsches-rund-um-das-thema-pflanzen/
LOCATION:Paul-Schnitzer-Saal
CATEGORIES:Allgemeines,Gesamtes Welterbe
ATTACH;FMTTYPE=image/jpeg:https://kalender.kloster-lorsch.de/wp-content/uploads/2026/02/Mikeleitis-Winter_1-002.jpg
END:VEVENT
END:VCALENDAR