BEGIN:VCALENDAR
VERSION:2.0
PRODID:-//Kalender Kloster Lorsch - ECPv6.15.16//NONSGML v1.0//EN
CALSCALE:GREGORIAN
METHOD:PUBLISH
X-WR-CALNAME:Kalender Kloster Lorsch
X-ORIGINAL-URL:https://kalender.kloster-lorsch.de
X-WR-CALDESC:Veranstaltungen für Kalender Kloster Lorsch
REFRESH-INTERVAL;VALUE=DURATION:PT1H
X-Robots-Tag:noindex
X-PUBLISHED-TTL:PT1H
BEGIN:VTIMEZONE
TZID:Europe/Berlin
BEGIN:DAYLIGHT
TZOFFSETFROM:+0100
TZOFFSETTO:+0200
TZNAME:CEST
DTSTART:20250330T010000
END:DAYLIGHT
BEGIN:STANDARD
TZOFFSETFROM:+0200
TZOFFSETTO:+0100
TZNAME:CET
DTSTART:20251026T010000
END:STANDARD
BEGIN:DAYLIGHT
TZOFFSETFROM:+0100
TZOFFSETTO:+0200
TZNAME:CEST
DTSTART:20260329T010000
END:DAYLIGHT
BEGIN:STANDARD
TZOFFSETFROM:+0200
TZOFFSETTO:+0100
TZNAME:CET
DTSTART:20261025T010000
END:STANDARD
BEGIN:DAYLIGHT
TZOFFSETFROM:+0100
TZOFFSETTO:+0200
TZNAME:CEST
DTSTART:20270328T010000
END:DAYLIGHT
BEGIN:STANDARD
TZOFFSETFROM:+0200
TZOFFSETTO:+0100
TZNAME:CET
DTSTART:20271031T010000
END:STANDARD
END:VTIMEZONE
BEGIN:VEVENT
DTSTART;TZID=Europe/Berlin:20260620T170000
DTEND;TZID=Europe/Berlin:20260620T200000
DTSTAMP:20260422T045213
CREATED:20251107T135654Z
LAST-MODIFIED:20251107T141459Z
UID:10000643-1781974800-1781985600@kalender.kloster-lorsch.de
SUMMARY:„Nachgekocht“ - Rezepte aus dem Lorscher Arzneibuch: Dattelpaste und Ochsensalz
DESCRIPTION:Das Lorscher Arzneibuch ist das älteste uns bekannte medizinische Buch des abendländischen Mittelalters und markiert den Beginn der Epoche der Klostermedizin. 482 Rezepte zeigen\, wie sehr man zur Zeit Karls des Großen das Wissen der Antike zu bewahren und zu nutzen wusste. Viele dieser Rezepturen haben sich seit Jahrtausenden bewährt oder bieten spannende Erkenntnisse für die moderne Medizin. Auf einem Rundgang durch unseren Kräutergarten lernen Sie die wichtigsten Arzneipflanzen der Klostermedizin kennen und tauchen ein in die Geschichte der frühmittelalterlichen Heilkunde. Gemeinsam stellen wir zwei ausgewählte Original-Rezepte aus dem Lorscher Arzneibuch her\, die vielleicht bald einen festen Platz in Ihrer Hausapotheke finden! \nAltersstufe: Erwachsene\nAnmeldung bis Fr 12.6.: buchung@kloster-lorsch.de | 06251 869200\nFindet ab 5 Personen statt (bis max. 16 Personen)\nPreis: 13 € | ermäßigt 8 €\nTreffpunkt: Kasse im Museumszentrum (MUZ) am Klostergelände \nPreise Stand 01.10.2025\, Änderungen vorbehalten.
URL:https://kalender.kloster-lorsch.de/kalender/nachgekocht-rezepte-aus-dem-lorscher-arzneibuch-dattelpaste-und-ochsensalz/
LOCATION:Museumszentrum
CATEGORIES:Klosterhügel,Workshop
ATTACH;FMTTYPE=image/jpeg:https://kalender.kloster-lorsch.de/wp-content/uploads/2024/01/K6-Foto.jpg
END:VEVENT
END:VCALENDAR