BEGIN:VCALENDAR
VERSION:2.0
PRODID:-//Kalender Kloster Lorsch - ECPv6.15.16//NONSGML v1.0//EN
CALSCALE:GREGORIAN
METHOD:PUBLISH
X-ORIGINAL-URL:https://kalender.kloster-lorsch.de
X-WR-CALDESC:Veranstaltungen für Kalender Kloster Lorsch
REFRESH-INTERVAL;VALUE=DURATION:PT1H
X-Robots-Tag:noindex
X-PUBLISHED-TTL:PT1H
BEGIN:VTIMEZONE
TZID:Europe/Berlin
BEGIN:DAYLIGHT
TZOFFSETFROM:+0100
TZOFFSETTO:+0200
TZNAME:CEST
DTSTART:20250330T010000
END:DAYLIGHT
BEGIN:STANDARD
TZOFFSETFROM:+0200
TZOFFSETTO:+0100
TZNAME:CET
DTSTART:20251026T010000
END:STANDARD
BEGIN:DAYLIGHT
TZOFFSETFROM:+0100
TZOFFSETTO:+0200
TZNAME:CEST
DTSTART:20260329T010000
END:DAYLIGHT
BEGIN:STANDARD
TZOFFSETFROM:+0200
TZOFFSETTO:+0100
TZNAME:CET
DTSTART:20261025T010000
END:STANDARD
BEGIN:DAYLIGHT
TZOFFSETFROM:+0100
TZOFFSETTO:+0200
TZNAME:CEST
DTSTART:20270328T010000
END:DAYLIGHT
BEGIN:STANDARD
TZOFFSETFROM:+0200
TZOFFSETTO:+0100
TZNAME:CET
DTSTART:20271031T010000
END:STANDARD
END:VTIMEZONE
BEGIN:VEVENT
DTSTART;TZID=Europe/Berlin:20260704T110000
DTEND;TZID=Europe/Berlin:20260704T150000
DTSTAMP:20260422T165834
CREATED:20251208T093427Z
LAST-MODIFIED:20251208T093427Z
UID:10000665-1783162800-1783177200@kalender.kloster-lorsch.de
SUMMARY:Schnippeln\, Schmurgeln\, Schnabulieren
DESCRIPTION:Öffentlicher spätmittelalterlicher Kochkurs \nDer Kochkurs entführt in die Küchen der spätmittelalterlichen Oberschicht. Auf der Grundlage originaler Rezeptüberlieferungen des 14. Und 15. Jahrhunderts bereiten alle Beteiligten ein opulentes Menü an einer offenen Herdstelle und im Kugelbackofen zu. \nZubereitet\, gekocht und gegessen wird ausschließlich mit Geschirr- und Kochrepliken\, die für diese Zeit belegt sind. \nBitte beachten Sie\, dass die Teilnehmendenzahl begrenzt ist. Der Workshop ist ab 12 Jahren geeignet. \nNicht geeignet für Veganer und Personen mit Glutenunverträglichkeit. \nAltersstufe: Erwachsene\, Familien mit Kindern ab 12 Jahren\nAnmeldung bis Fr 26.6.: buchung@kloster-lorsch.de | 06251 869200\nFindet ab 5 Personen statt (bis max. 20 Personen)\nPreis: Erwachsene 79 € | Kinder (ab 12 Jahre) 45 € |exklusive Getränke\nOrt: Überdachter Außenbereich des Besucherinformationszentrums
URL:https://kalender.kloster-lorsch.de/kalender/schnippeln-schmurgeln-schnabulieren-07-26/
CATEGORIES:Allgemeines,Lauresham
ATTACH;FMTTYPE=image/jpeg:https://kalender.kloster-lorsch.de/wp-content/uploads/2025/12/Schnibbeln-scaled.jpg
END:VEVENT
BEGIN:VEVENT
DTSTART;TZID=Europe/Berlin:20260704T140000
DTEND;TZID=Europe/Berlin:20260704T170000
DTSTAMP:20260422T165834
CREATED:20251211T094043Z
LAST-MODIFIED:20260401T102228Z
UID:10000710-1783173600-1783184400@kalender.kloster-lorsch.de
SUMMARY:Mitmach-Nachmittag im Kloster Lorsch: Töpfern
DESCRIPTION:Vorbeikommen & Mitmachen! Ohne Voranmeldung \nUm 14 Uhr können Kinder und Erwachsene an einer Führung im UNESCO Welterbe Kloster Lorsch teilnehmen (ca. 60 Min\, ab 2 Pers.) \nZwischen 15 und 17 Uhr ist unser Mitmach-Angebot für Kinder und Erwachsene geöffnet. Dort gibt es jedes Mal ein anderes Thema aus dem Bereich Leben und Arbeiten im mittelalterlichen Kloster Lorsch\, z.B. Schreiben & Malen wie die Mönche\, Mosaike\, Tonbodenfliesen\, Töpfern\,… \nAltersstufe: Kinder ab 6 Jahre in Begleitung Erwachsener (die Aufsichtspflicht liegt bei der erwachsenen Begleitung!).\nDie Teilnehmendenzahl ist auf 20 Personen beschränkt.\nKeine Voranmeldung erforderlich. Die Führung findet ab 2 Personen statt. \nTicket: 7 € | ermäßigt 5 € | Familienkarte € 16\,50  (2 Erw.\, max. 4 Kinder bis 16 Jahre)\nZzgl. 3 € Materialkosten pro Person \nTreffpunkt: Kasse im Museumszentrum (MUZ) am Klostergelände \nPreise Stand 01.10.2025\, Änderungen vorbehalten.
URL:https://kalender.kloster-lorsch.de/kalender/mitmach-nachmittag-im-kloster-lorsch-07-04/
LOCATION:Museumszentrum
CATEGORIES:Klosterhügel,Mitmachführung
ATTACH;FMTTYPE=image/jpeg:https://kalender.kloster-lorsch.de/wp-content/uploads/2025/11/mitmach-nachmittag-kloster-lauresham.jpg
END:VEVENT
END:VCALENDAR