BEGIN:VCALENDAR
VERSION:2.0
PRODID:-//Kalender Kloster Lorsch - ECPv6.15.16//NONSGML v1.0//EN
CALSCALE:GREGORIAN
METHOD:PUBLISH
X-ORIGINAL-URL:https://kalender.kloster-lorsch.de
X-WR-CALDESC:Veranstaltungen für Kalender Kloster Lorsch
REFRESH-INTERVAL;VALUE=DURATION:PT1H
X-Robots-Tag:noindex
X-PUBLISHED-TTL:PT1H
BEGIN:VTIMEZONE
TZID:Europe/Berlin
BEGIN:DAYLIGHT
TZOFFSETFROM:+0100
TZOFFSETTO:+0200
TZNAME:CEST
DTSTART:20250330T010000
END:DAYLIGHT
BEGIN:STANDARD
TZOFFSETFROM:+0200
TZOFFSETTO:+0100
TZNAME:CET
DTSTART:20251026T010000
END:STANDARD
BEGIN:DAYLIGHT
TZOFFSETFROM:+0100
TZOFFSETTO:+0200
TZNAME:CEST
DTSTART:20260329T010000
END:DAYLIGHT
BEGIN:STANDARD
TZOFFSETFROM:+0200
TZOFFSETTO:+0100
TZNAME:CET
DTSTART:20261025T010000
END:STANDARD
BEGIN:DAYLIGHT
TZOFFSETFROM:+0100
TZOFFSETTO:+0200
TZNAME:CEST
DTSTART:20270328T010000
END:DAYLIGHT
BEGIN:STANDARD
TZOFFSETFROM:+0200
TZOFFSETTO:+0100
TZNAME:CET
DTSTART:20271031T010000
END:STANDARD
END:VTIMEZONE
BEGIN:VEVENT
DTSTART;TZID=Europe/Berlin:20260710T140000
DTEND;TZID=Europe/Berlin:20260710T170000
DTSTAMP:20260422T224455
CREATED:20251208T093844Z
LAST-MODIFIED:20251208T123951Z
UID:10000666-1783692000-1783702800@kalender.kloster-lorsch.de
SUMMARY:Ferien-Workshop: Leben im mittelalterlichen Kloster Lorsch
DESCRIPTION:+ Workshop Hustensirup und Rosensalbe\nIm Kloster Lorsch lebten und arbeiteten im Mittelalter nicht nur Mönche. Leibeigene Bauern halfen den Mönchen bei der Feldarbeit\, der Versorgung mit Nahrung oder der Textilherstellung. Adlige Damen und Herren pilgerten zum Kloster\, um etwas für ihr Seelenheil zu tun.  Könige und Kaiser mitsamt ihren Ehefrauen waren im Kloster zu Gast\, um dort zu verweilen\, wichtige Geschäfte zu tätigen und Urkunden ausstellen zu lassen. In der Führung betrachten wir kindgerecht das Leben im mittelalterlichen Kloster und schauen uns an\, welche archäologischen Hinweise wir finden können. \nIm Anschluss werden Hustensirup und Rosensalbe nach Original Rezepturen aus dem Lorscher Arzneibuch hergestellt (nicht vegan). \nAltersstufe: Kinder ab 8 Jahre\nAnmeldung bis Fr 3.7.: buchung@kloster-lorsch.de | 06251 869200\nFindet ab 5 Personen statt (bis max. 20 Personen)\nPreis: 12 €\nTreffpunkt: Kasse im Museumszentrum (MUZ) am Klostergelände
URL:https://kalender.kloster-lorsch.de/kalender/ferienworkshop-leben-im-mittelalterlichen-kloster-lorsch/
LOCATION:Museumszentrum
ATTACH;FMTTYPE=image/jpeg:https://kalender.kloster-lorsch.de/wp-content/uploads/2025/12/leben-im-mittelalterlichen-kloster-lorsch-hustensirup-und-rosensalbe-Bildnachweis-Michael-C-Thumm-2023-10-02_1519_D858759_mod.jpg
END:VEVENT
END:VCALENDAR