BEGIN:VCALENDAR
VERSION:2.0
PRODID:-//Kalender Kloster Lorsch - ECPv6.15.16//NONSGML v1.0//EN
CALSCALE:GREGORIAN
METHOD:PUBLISH
X-WR-CALNAME:Kalender Kloster Lorsch
X-ORIGINAL-URL:https://kalender.kloster-lorsch.de
X-WR-CALDESC:Veranstaltungen für Kalender Kloster Lorsch
REFRESH-INTERVAL;VALUE=DURATION:PT1H
X-Robots-Tag:noindex
X-PUBLISHED-TTL:PT1H
BEGIN:VTIMEZONE
TZID:Europe/Berlin
BEGIN:DAYLIGHT
TZOFFSETFROM:+0100
TZOFFSETTO:+0200
TZNAME:CEST
DTSTART:20250330T010000
END:DAYLIGHT
BEGIN:STANDARD
TZOFFSETFROM:+0200
TZOFFSETTO:+0100
TZNAME:CET
DTSTART:20251026T010000
END:STANDARD
BEGIN:DAYLIGHT
TZOFFSETFROM:+0100
TZOFFSETTO:+0200
TZNAME:CEST
DTSTART:20260329T010000
END:DAYLIGHT
BEGIN:STANDARD
TZOFFSETFROM:+0200
TZOFFSETTO:+0100
TZNAME:CET
DTSTART:20261025T010000
END:STANDARD
BEGIN:DAYLIGHT
TZOFFSETFROM:+0100
TZOFFSETTO:+0200
TZNAME:CEST
DTSTART:20270328T010000
END:DAYLIGHT
BEGIN:STANDARD
TZOFFSETFROM:+0200
TZOFFSETTO:+0100
TZNAME:CET
DTSTART:20271031T010000
END:STANDARD
END:VTIMEZONE
BEGIN:VEVENT
DTSTART;TZID=Europe/Berlin:20260711T110000
DTEND;TZID=Europe/Berlin:20260711T140000
DTSTAMP:20260423T001307
CREATED:20251208T094146Z
LAST-MODIFIED:20251208T094146Z
UID:10000667-1783767600-1783778400@kalender.kloster-lorsch.de
SUMMARY:Familienworkshop „Backen wie im Mittelalter“
DESCRIPTION:Getreidebreie und Brot sind Grundnahrungsmittel des Mittelalters. Im Workshop lernen wir eine Getreidemühle kennen\, mahlen unser Mehl und bereiten unseren eigenen Brötchenteig. Danach backen wir die Brötchen im Holzofen und essen zu den fertigen Brötchen selbstgemachte Butter und Kräuterquark. Einfach köstlich! \nAltersstufe: Familien mit Kindern ab 6 Jahren\nAnmeldung bis Fr 3.7.: buchung@kloster-lorsch.de | 06251 869200\nFindet ab 5 Personen statt (bis max. 20 Personen)\nPreis: wir noch veröffentlicht\nOrt: Überdachter Außenbereich des Besucherinfomationszentrums
URL:https://kalender.kloster-lorsch.de/kalender/familienworkshop-backen-wie-im-mittelalter-07-26/
LOCATION:Lauresham (BIZ)
CATEGORIES:Lauresham,Workshop
ATTACH;FMTTYPE=image/jpeg:https://kalender.kloster-lorsch.de/wp-content/uploads/2025/12/backen.jpg
END:VEVENT
END:VCALENDAR