BEGIN:VCALENDAR
VERSION:2.0
PRODID:-//Kalender Kloster Lorsch - ECPv6.15.16//NONSGML v1.0//EN
CALSCALE:GREGORIAN
METHOD:PUBLISH
X-WR-CALNAME:Kalender Kloster Lorsch
X-ORIGINAL-URL:https://kalender.kloster-lorsch.de
X-WR-CALDESC:Veranstaltungen für Kalender Kloster Lorsch
REFRESH-INTERVAL;VALUE=DURATION:PT1H
X-Robots-Tag:noindex
X-PUBLISHED-TTL:PT1H
BEGIN:VTIMEZONE
TZID:Europe/Berlin
BEGIN:DAYLIGHT
TZOFFSETFROM:+0100
TZOFFSETTO:+0200
TZNAME:CEST
DTSTART:20250330T010000
END:DAYLIGHT
BEGIN:STANDARD
TZOFFSETFROM:+0200
TZOFFSETTO:+0100
TZNAME:CET
DTSTART:20251026T010000
END:STANDARD
BEGIN:DAYLIGHT
TZOFFSETFROM:+0100
TZOFFSETTO:+0200
TZNAME:CEST
DTSTART:20260329T010000
END:DAYLIGHT
BEGIN:STANDARD
TZOFFSETFROM:+0200
TZOFFSETTO:+0100
TZNAME:CET
DTSTART:20261025T010000
END:STANDARD
BEGIN:DAYLIGHT
TZOFFSETFROM:+0100
TZOFFSETTO:+0200
TZNAME:CEST
DTSTART:20270328T010000
END:DAYLIGHT
BEGIN:STANDARD
TZOFFSETFROM:+0200
TZOFFSETTO:+0100
TZNAME:CET
DTSTART:20271031T010000
END:STANDARD
END:VTIMEZONE
BEGIN:VEVENT
DTSTART;TZID=Europe/Berlin:20260712T100000
DTEND;TZID=Europe/Berlin:20260712T170000
DTSTAMP:20260423T014334
CREATED:20260219T143650Z
LAST-MODIFIED:20260422T080853Z
UID:10000758-1783850400-1783875600@kalender.kloster-lorsch.de
SUMMARY:Schriftlichkeit
DESCRIPTION:Heute steht das Thema Schriftlichkeit im Frühmittelalter im Fokus und wir zeigen die Entstehung eines einfachen Buches von der Vorbereitung des Pergaments bis hin zum gebundenen Buch. Dabei wird es auch um das Immaterielle Kulturerbe der Buchbinderei gehen. Eine kleine Sonderausstellung mit Faksimiles in unserem Besucherinformationszentrum rundet den Themenschwerpunkt dieses Tages schließlich ab. \nEintritt: 7 € | ermäßigt 5 € | Familienkarte 16\,50 € (2 Erw.\, max. 4 Kinder bis 16 Jahre)\nOrt: Freilichtlabor Lauresham \nTipp \nHeute finden auch zwei öffentliche Führungen im Freilichtlabor Lauresham statt: \n11 Uhr | 14 Uhr | ab 2 Pers.\, ca. 90 Min.\nTickets (zzgl. Eintritt):\n5 € | ermäßigt 3 € | Familienkarte 11\,50 €\n(2 Erw.\, max. 4 Kinder bis 16 Jahre) \nPreise Stand 1.4.2026\, Änderungen vorbehalten
URL:https://kalender.kloster-lorsch.de/kalender/offener-sonntag-zum-thema-schriftlichkeit/
LOCATION:Freilichtlabor Lauresham
CATEGORIES:Lauresham,Offenes Lauresham
ATTACH;FMTTYPE=image/jpeg:https://kalender.kloster-lorsch.de/wp-content/uploads/2025/11/Offenes-Lauresham-Bildnachweis-Michael-C-Thumm-2023-05-07_1237_D8560161.jpg
END:VEVENT
END:VCALENDAR