BEGIN:VCALENDAR
VERSION:2.0
PRODID:-//Kalender Kloster Lorsch - ECPv6.15.16//NONSGML v1.0//EN
CALSCALE:GREGORIAN
METHOD:PUBLISH
X-ORIGINAL-URL:https://kalender.kloster-lorsch.de
X-WR-CALDESC:Veranstaltungen für Kalender Kloster Lorsch
REFRESH-INTERVAL;VALUE=DURATION:PT1H
X-Robots-Tag:noindex
X-PUBLISHED-TTL:PT1H
BEGIN:VTIMEZONE
TZID:Europe/Berlin
BEGIN:DAYLIGHT
TZOFFSETFROM:+0100
TZOFFSETTO:+0200
TZNAME:CEST
DTSTART:20250330T010000
END:DAYLIGHT
BEGIN:STANDARD
TZOFFSETFROM:+0200
TZOFFSETTO:+0100
TZNAME:CET
DTSTART:20251026T010000
END:STANDARD
BEGIN:DAYLIGHT
TZOFFSETFROM:+0100
TZOFFSETTO:+0200
TZNAME:CEST
DTSTART:20260329T010000
END:DAYLIGHT
BEGIN:STANDARD
TZOFFSETFROM:+0200
TZOFFSETTO:+0100
TZNAME:CET
DTSTART:20261025T010000
END:STANDARD
BEGIN:DAYLIGHT
TZOFFSETFROM:+0100
TZOFFSETTO:+0200
TZNAME:CEST
DTSTART:20270328T010000
END:DAYLIGHT
BEGIN:STANDARD
TZOFFSETFROM:+0200
TZOFFSETTO:+0100
TZNAME:CET
DTSTART:20271031T010000
END:STANDARD
END:VTIMEZONE
BEGIN:VEVENT
DTSTART;TZID=Europe/Berlin:20260714T140000
DTEND;TZID=Europe/Berlin:20260714T170000
DTSTAMP:20260423T043236
CREATED:20251211T094333Z
LAST-MODIFIED:20260401T102429Z
UID:10000717-1784037600-1784048400@kalender.kloster-lorsch.de
SUMMARY:Mitmach-Nachmittag im Kloster Lorsch: kleine Kloster-Rallye
DESCRIPTION:Um 14 Uhr können Kinder und Erwachsene an einer Führung im UNESCO Welterbe Kloster Lorsch teilnehmen (ca. 60 Min\, ab 2 Pers.) \nZwischen 15 und 17 Uhr ist unser Mitmach-Angebot für Kinder und Erwachsene geöffnet. Dort gibt es jedes Mal ein anderes Thema aus dem Bereich Leben und Arbeiten im mittelalterlichen Kloster Lorsch. Heute: Tonbodenfliesen \nTonbodenfliesen gehören zu unseren häufigsten archäologischen Funden. Ab dem 13./14. Jahrhundert schmückten sie viele Räume des mittelalterlichen Klosters Lorsch. Die überlieferte Formenvielfalt zeugt von Ideenreichtum und lässt bis heute staunen. Dabei ergibt sich das Motiv oft erst im Zusammenspiel mehrerer Einzelfliesen. \nMit nachgemachten Stempeln vieler Originalmotive können die Teilnehmenden im Anschluss an eine Klosterführung (ca. 90 Min.) selbst eine Fliese in Ton prägen (ca. 30 Min) und mit nach Hause nehmen. \nAltersstufe: Kinder ab 6 Jahre in Begleitung Erwachsener (die Aufsichtspflicht liegt bei der erwachsenen Begleitung!).\nDie Teilnehmendenzahl ist auf 20 Personen beschränkt.\nKeine Voranmeldung erforderlich. Die Führung findet ab 2 Personen statt. \nTicket: 7 € | ermäßigt 5 € | Familienkarte € 16\,50  (2 Erw.\, max. 4 Kinder bis 16 Jahre)\nZzgl. 3 € Materialkosten pro Person \nTreffpunkt: Kasse im Museumszentrum (MUZ) am Klostergelände \nPreise Stand 01.10.2025\, Änderungen vorbehalten.
URL:https://kalender.kloster-lorsch.de/kalender/mitmach-nachmittag-im-kloster-lorsch-07-14/
LOCATION:Museumszentrum
CATEGORIES:Klosterhügel,Mitmachführung
ATTACH;FMTTYPE=image/jpeg:https://kalender.kloster-lorsch.de/wp-content/uploads/2025/11/mitmach-nachmittag-kloster-lauresham.jpg
END:VEVENT
END:VCALENDAR