BEGIN:VCALENDAR
VERSION:2.0
PRODID:-//Kalender Kloster Lorsch - ECPv6.15.16//NONSGML v1.0//EN
CALSCALE:GREGORIAN
METHOD:PUBLISH
X-WR-CALNAME:Kalender Kloster Lorsch
X-ORIGINAL-URL:https://kalender.kloster-lorsch.de
X-WR-CALDESC:Veranstaltungen für Kalender Kloster Lorsch
REFRESH-INTERVAL;VALUE=DURATION:PT1H
X-Robots-Tag:noindex
X-PUBLISHED-TTL:PT1H
BEGIN:VTIMEZONE
TZID:Europe/Berlin
BEGIN:DAYLIGHT
TZOFFSETFROM:+0100
TZOFFSETTO:+0200
TZNAME:CEST
DTSTART:20250330T010000
END:DAYLIGHT
BEGIN:STANDARD
TZOFFSETFROM:+0200
TZOFFSETTO:+0100
TZNAME:CET
DTSTART:20251026T010000
END:STANDARD
BEGIN:DAYLIGHT
TZOFFSETFROM:+0100
TZOFFSETTO:+0200
TZNAME:CEST
DTSTART:20260329T010000
END:DAYLIGHT
BEGIN:STANDARD
TZOFFSETFROM:+0200
TZOFFSETTO:+0100
TZNAME:CET
DTSTART:20261025T010000
END:STANDARD
BEGIN:DAYLIGHT
TZOFFSETFROM:+0100
TZOFFSETTO:+0200
TZNAME:CEST
DTSTART:20270328T010000
END:DAYLIGHT
BEGIN:STANDARD
TZOFFSETFROM:+0200
TZOFFSETTO:+0100
TZNAME:CET
DTSTART:20271031T010000
END:STANDARD
END:VTIMEZONE
BEGIN:VEVENT
DTSTART;TZID=Europe/Berlin:20260723T140000
DTEND;TZID=Europe/Berlin:20260723T153000
DTSTAMP:20260423T144729
CREATED:20251106T155120Z
LAST-MODIFIED:20260420T091412Z
UID:10000765-1784815200-1784820600@kalender.kloster-lorsch.de
SUMMARY:Familienführung in Lauresham
DESCRIPTION:Kommt mit auf Zeitreise ins 9. Jahrhundert. Das ist die Zeit von Karl dem Großen und seinen Nachfolgern. Damals war das Kloster Lorsch durch Landschenkungen sehr wohlhabend geworden. Viele Höfe waren im Besitz des Klosters – und die Menschen auf den Höfen somit Teil der „Familia“ des Klosters Lorsch. Wie lebt und arbeitet man auf einem Herrenhof in dieser Zeit? Das kann man in dieser Führung auf anschauliche Weise erfahren. \nAltersstufe: Familien mit Kindern ab 5 Jahren\nFindet ab 2 Personen statt (max. 25 Personen)\nOhne Voranmeldung\, Plätze reservieren möglich: buchung@kloster-lorsch.de | 06251 869200\nDie Reservierung verfällt 20 Minuten vor Führungsbeginn bei Nichterscheinen. \nTicket: 7 € | ermäßigt 5 € | Familienkarte 16\,50 € (2 Erw.\, max. 4 Kinder bis 16 Jahre)\nTreffpunkt: Kasse im Besucherinformationszentrum (BIZ) des Freilichtlabors Lauresham \nPreise Stand 01.10.2025\, Änderungen vorbehalten.
URL:https://kalender.kloster-lorsch.de/kalender/familienfuehrung-in-lauresham2026/2026-07-23/
CATEGORIES:Familienführung,Lauresham
ATTACH;FMTTYPE=image/jpeg:https://kalender.kloster-lorsch.de/wp-content/uploads/2025/01/Ferienspiele-5-Tage-Herrenhof-Lauresham-und-Kloster-Lorsch-Bildnachweis-C-Dewald.jpg
END:VEVENT
END:VCALENDAR