BEGIN:VCALENDAR
VERSION:2.0
PRODID:-//Kalender Kloster Lorsch - ECPv6.15.20//NONSGML v1.0//EN
CALSCALE:GREGORIAN
METHOD:PUBLISH
X-ORIGINAL-URL:https://kalender.kloster-lorsch.de
X-WR-CALDESC:Veranstaltungen für Kalender Kloster Lorsch
REFRESH-INTERVAL;VALUE=DURATION:PT1H
X-Robots-Tag:noindex
X-PUBLISHED-TTL:PT1H
BEGIN:VTIMEZONE
TZID:Europe/Berlin
BEGIN:DAYLIGHT
TZOFFSETFROM:+0100
TZOFFSETTO:+0200
TZNAME:CEST
DTSTART:20250330T010000
END:DAYLIGHT
BEGIN:STANDARD
TZOFFSETFROM:+0200
TZOFFSETTO:+0100
TZNAME:CET
DTSTART:20251026T010000
END:STANDARD
BEGIN:DAYLIGHT
TZOFFSETFROM:+0100
TZOFFSETTO:+0200
TZNAME:CEST
DTSTART:20260329T010000
END:DAYLIGHT
BEGIN:STANDARD
TZOFFSETFROM:+0200
TZOFFSETTO:+0100
TZNAME:CET
DTSTART:20261025T010000
END:STANDARD
BEGIN:DAYLIGHT
TZOFFSETFROM:+0100
TZOFFSETTO:+0200
TZNAME:CEST
DTSTART:20270328T010000
END:DAYLIGHT
BEGIN:STANDARD
TZOFFSETFROM:+0200
TZOFFSETTO:+0100
TZNAME:CET
DTSTART:20271031T010000
END:STANDARD
END:VTIMEZONE
BEGIN:VEVENT
DTSTART;TZID=Europe/Berlin:20260802T100000
DTEND;TZID=Europe/Berlin:20260802T170000
DTSTAMP:20260424T011608
CREATED:20251219T101108Z
LAST-MODIFIED:20260422T081315Z
UID:10000727-1785664800-1785690000@kalender.kloster-lorsch.de
SUMMARY:Falknerei
DESCRIPTION:Die Beizjagd\, das heißt die Jagd mit Greifvögeln\, ist eine in Deutschland bis ins Mittelalter zurückreichende Tradition. Am heutigen Sonntag ist deshalb ein besonderer Gast zu Besuch: Walter Reinhart von Greifvogelstation Burg Ronneburg. Besucherinnen und Besucher können die beeindruckenden Vögel im Rahmen einer Falknereivorführung hautnah erleben. \nEintritt: 7 € | ermäßigt 5 € | Familienkarte 16\,50 € (2 Erw.\, max. 4 Kinder bis 16 Jahre)\nOrt: Freilichtlabor Lauresham \nTipp \nHeute finden auch zwei öffentliche Führungen im Freilichtlabor Lauresham statt: \n11 Uhr | 14 Uhr | ab 2 Pers.\, ca. 90 Min.\nTickets (zzgl. Eintritt):\n5 € | ermäßigt 3 € | Familienkarte 11\,50 €\n(2 Erw.\, max. 4 Kinder bis 16 Jahre) \nPreise Stand 1.4.2026\, Änderungen vorbehalten
URL:https://kalender.kloster-lorsch.de/kalender/sonderoeffnungstag-zum-thema-falknerei/
LOCATION:Freilichtlabor Lauresham
CATEGORIES:Lauresham,Offenes Lauresham
ATTACH;FMTTYPE=image/jpeg:https://kalender.kloster-lorsch.de/wp-content/uploads/2025/11/Offenes-Lauresham-Bildnachweis-Michael-C-Thumm-2023-05-07_1237_D8560161.jpg
END:VEVENT
END:VCALENDAR