BEGIN:VCALENDAR
VERSION:2.0
PRODID:-//Kalender Kloster Lorsch - ECPv6.15.20//NONSGML v1.0//EN
CALSCALE:GREGORIAN
METHOD:PUBLISH
X-ORIGINAL-URL:https://kalender.kloster-lorsch.de
X-WR-CALDESC:Veranstaltungen für Kalender Kloster Lorsch
REFRESH-INTERVAL;VALUE=DURATION:PT1H
X-Robots-Tag:noindex
X-PUBLISHED-TTL:PT1H
BEGIN:VTIMEZONE
TZID:Europe/Berlin
BEGIN:DAYLIGHT
TZOFFSETFROM:+0100
TZOFFSETTO:+0200
TZNAME:CEST
DTSTART:20250330T010000
END:DAYLIGHT
BEGIN:STANDARD
TZOFFSETFROM:+0200
TZOFFSETTO:+0100
TZNAME:CET
DTSTART:20251026T010000
END:STANDARD
BEGIN:DAYLIGHT
TZOFFSETFROM:+0100
TZOFFSETTO:+0200
TZNAME:CEST
DTSTART:20260329T010000
END:DAYLIGHT
BEGIN:STANDARD
TZOFFSETFROM:+0200
TZOFFSETTO:+0100
TZNAME:CET
DTSTART:20261025T010000
END:STANDARD
BEGIN:DAYLIGHT
TZOFFSETFROM:+0100
TZOFFSETTO:+0200
TZNAME:CEST
DTSTART:20270328T010000
END:DAYLIGHT
BEGIN:STANDARD
TZOFFSETFROM:+0200
TZOFFSETTO:+0100
TZNAME:CET
DTSTART:20271031T010000
END:STANDARD
END:VTIMEZONE
BEGIN:VEVENT
DTSTART;TZID=Europe/Berlin:20260804T100000
DTEND;TZID=Europe/Berlin:20260804T130000
DTSTAMP:20260424T040508
CREATED:20260212T102152Z
LAST-MODIFIED:20260212T102152Z
UID:10000747-1785837600-1785848400@kalender.kloster-lorsch.de
SUMMARY:Sommerferien 2026 - Ferienworkshop: Filzen & Färben
DESCRIPTION:In Kooperation mit dem Familienzentrum Bensheim \nBei einer Führung zu unserer alten Schafrasse erfährt man bereits einiges zum Rohstoff Wolle. Die Rohwolle lässt sich auf verschiedenste Arten weiterverarbeiten. Das Nassfilzen ist eine der uralten Techniken. Durch das Walgen der Wolle mit Wasser und Seife entsteht das Filzgewebe. Wir probieren die Technik des Nassfilzens selbst aus und filzen kleine Andenken. Um auch ein wenig Farbe ins Spiel zu bringen\, färben wir auch einen Wollstrang mit pflanzlichen Farbstoffen aus dem Färbergarten. \nAltersstufe: für Kinder von 8-12 Jahren\nTN: ab 6 Personen bis max. 15 Personen\nAnmeldung unter www.familienzentrum-bensheim.de\, 06251- 8053110\nKursgebühr: 18\,00€\, Mitgliedspreis: 13\,50€\nMaterialkosten: 3 €\nReferentin: Patricia Scheuermann\nVeranstaltungsort: Freilichtlabor Lauresham\nTreffpunkt: Besucherinformationszentrum
URL:https://kalender.kloster-lorsch.de/kalender/sommerferien-2026-ferienworkshop-filzen-faerben/
LOCATION:Freilichtlabor Lauresham
CATEGORIES:Museumspädagogik
ATTACH;FMTTYPE=image/jpeg:https://kalender.kloster-lorsch.de/wp-content/uploads/2026/02/Filzen-und-Faerben-Bildnachweis-Florian-Saum-IMG_20250225_154205-bearbeitet-bearbeitet.jpg
END:VEVENT
END:VCALENDAR