BEGIN:VCALENDAR
VERSION:2.0
PRODID:-//Kalender Kloster Lorsch - ECPv6.15.16//NONSGML v1.0//EN
CALSCALE:GREGORIAN
METHOD:PUBLISH
X-ORIGINAL-URL:https://kalender.kloster-lorsch.de
X-WR-CALDESC:Veranstaltungen für Kalender Kloster Lorsch
REFRESH-INTERVAL;VALUE=DURATION:PT1H
X-Robots-Tag:noindex
X-PUBLISHED-TTL:PT1H
BEGIN:VTIMEZONE
TZID:Europe/Berlin
BEGIN:DAYLIGHT
TZOFFSETFROM:+0100
TZOFFSETTO:+0200
TZNAME:CEST
DTSTART:20250330T010000
END:DAYLIGHT
BEGIN:STANDARD
TZOFFSETFROM:+0200
TZOFFSETTO:+0100
TZNAME:CET
DTSTART:20251026T010000
END:STANDARD
BEGIN:DAYLIGHT
TZOFFSETFROM:+0100
TZOFFSETTO:+0200
TZNAME:CEST
DTSTART:20260329T010000
END:DAYLIGHT
BEGIN:STANDARD
TZOFFSETFROM:+0200
TZOFFSETTO:+0100
TZNAME:CET
DTSTART:20261025T010000
END:STANDARD
BEGIN:DAYLIGHT
TZOFFSETFROM:+0100
TZOFFSETTO:+0200
TZNAME:CEST
DTSTART:20270328T010000
END:DAYLIGHT
BEGIN:STANDARD
TZOFFSETFROM:+0200
TZOFFSETTO:+0100
TZNAME:CET
DTSTART:20271031T010000
END:STANDARD
END:VTIMEZONE
BEGIN:VEVENT
DTSTART;TZID=Europe/Berlin:20261024T140000
DTEND;TZID=Europe/Berlin:20261024T170000
DTSTAMP:20260420T011103
CREATED:20260209T084930Z
LAST-MODIFIED:20260415T073729Z
UID:10000740-1792850400-1792861200@kalender.kloster-lorsch.de
SUMMARY:Mitmach-Nachmittag im Freilichtlabor Lauresham: ein kleines Band weben
DESCRIPTION:Vorbeikommen & Mitmachen! Ohne Voranmeldung \nUm 14 Uhr können Kinder und Erwachsene an einer Führung im Freilichtlabot Lauresham teilnehmen (ca. 60 Min\, ab 2 Pers.) \nZwischen 15 und 17 Uhr ist unser Mitmach-Angebot für Kinder und Erwachsene geöffnet. Dort gibt es jedes Mal ein anderes Thema aus dem Bereich Leben und Arbeiten im Mitelalter\, z.B. Töpfern\, Metallfolie prägen\, Spielen wie im Mittelaterl… \nAltersstufe: Kinder ab 6 Jahre in Begleitung Erwachsener (die Aufsichtspflicht liegt bei der erwachsenen Begleitung!).\nDie Teilnehmendenzahl ist auf 20 Personen beschränkt.\nKeine Voranmeldung erforderlich. Die Führung findet ab 2 Personen statt. \nTicket: 7 € | ermäßigt 5 € | Familienkarte € 16\,50  (2 Erw.\, max. 4 Kinder bis 16 Jahre)\nZzgl. 3 € Materialkosten pro Person \nTreffpunkt: Treffpunkt: Kasse im Besucherinformationszentrum (BIZ) des Freilichtlabors Lauresham \nPreise Stand 01.10.2025\, Änderungen vorbehalten.
URL:https://kalender.kloster-lorsch.de/kalender/mitmach-nachmittag-im-freilichtlabor-lauresham-10-24/
LOCATION:Lauresham (BIZ)
CATEGORIES:Lauresham,Mitmachführung
ATTACH;FMTTYPE=image/jpeg:https://kalender.kloster-lorsch.de/wp-content/uploads/2025/11/mitmach-nachmittag-kloster-lauresham.jpg
END:VEVENT
BEGIN:VEVENT
DTSTART;TZID=Europe/Berlin:20261024T143000
DTEND;TZID=Europe/Berlin:20261024T160000
DTSTAMP:20260420T011103
CREATED:20251107T124103Z
LAST-MODIFIED:20251208T102717Z
UID:10000688-1792852200-1792857600@kalender.kloster-lorsch.de
SUMMARY:Willicumo ze Lauresham - Mit Oda durch den Herrenhof
DESCRIPTION:Erleben Sie den Herrenhof aus der Sicht einer Leibeigenen im Jahr 826. Oda erzählt aus ihrem Alltag als hörige Magd und den Aufgaben und Herausforderungen\, die sie und andere Hofbewohner täglich zu bewältigen haben. Sei es die tägliche Arbeit\, das soziale Miteinander oder die Wohnsituation auf einem herrschaftlichen Hofgut – mit Oda werden Sie ganz unmittelbar in die frühmittelalterliche Welt versetzt. \nAltersstufe: Erwachsene\nFindet ab 2 Personen statt (max. 20 Personen)\nOhne Voranmeldung\, Plätze reservieren möglich: buchung@kloster-lorsch.de | 06251 869200\nDie Reservierung verfällt 20 Minuten vor Führungsbeginn bei Nichterscheinen.\nPreis: 7 € | ermäßigt 5 € \nPreise Stand 01.10.2025\, Änderungen vorbehalten.
URL:https://kalender.kloster-lorsch.de/kalender/willicumo-ze-lauresham-mit-oda-durch-den-herrenhof/2026-10-24/
LOCATION:Lauresham (BIZ)
CATEGORIES:Lauresham,Themenführungen
ATTACH;FMTTYPE=image/webp:https://kalender.kloster-lorsch.de/wp-content/uploads/2024/01/Oda-DSC_9847-ausschnitt.jpg.webp
END:VEVENT
BEGIN:VEVENT
DTSTART;TZID=Europe/Berlin:20261031T140000
DTEND;TZID=Europe/Berlin:20261031T170000
DTSTAMP:20260420T011103
CREATED:20260212T104249Z
LAST-MODIFIED:20260212T104249Z
UID:10000752-1793455200-1793466000@kalender.kloster-lorsch.de
SUMMARY:Workshop: Hustensirup & Rosensalbe
DESCRIPTION:In Kooperation mit dem Familienzentrum Bensheim \nSchon im Mittelalter gab es in den Klöstern\, zum Beispiel im Kloster Lorsch\, heilkundige Mönche\, die man um Hilfe bitten konnte\, wenn man krank war. Sie wussten welche Kräuter oder andere Zutaten verwendet werden konnten um wirkungsvolle Arzneien herzustellen. Nach einem gemeinsamen Rundgang durch das Kloster werden im Kräutergarten gebräuchliche und weniger bekannte Heilpflanzen vorgestellt. Danach folgt die praktische Umsetzung\, bei der wir selbst einen Hustensirup „Gegen chronischen Husten und für solche\, die die Hoffnung schon aufgegeben haben“ sowie eine wunderbar duftende Salbe auf der Basis von Rosenöl und Bienenwachs herstellen. Beide Rezepte stammen aus dem Lorscher Arzneibuch und werden im Workshop leicht abgewandelt nachgemacht. \nAltersstufe: für Erwachsene (und Jugendliche ab 12 Jahren)\nTN: ab 6 Personen bis max. 15 Personen\nAnmeldung unter www.familienzentrum-bensheim.de\, 06251- 8053110\nKursgebühr: 18\,00€\, Mitgliedspreis: 13\,50€\nMaterialkosten: 5 €\nVeranstaltungsort: Welterbe Kloster Lorsch\nTreffpunkt: Museumszentrum Lorsch
URL:https://kalender.kloster-lorsch.de/kalender/workshop-hustensirup-rosensalbe/
LOCATION:Museumszentrum
CATEGORIES:Workshop
ATTACH;FMTTYPE=image/jpeg:https://kalender.kloster-lorsch.de/wp-content/uploads/2026/02/hustensirup-und-rosensalbe-Bildnachweis-Michael-C-Thumm-2023-10-02_1519_D858759_mod.jpg
END:VEVENT
BEGIN:VEVENT
DTSTART;TZID=Europe/Berlin:20261101T150000
DTEND;TZID=Europe/Berlin:20261101T163000
DTSTAMP:20260420T011103
CREATED:20251208T095916Z
LAST-MODIFIED:20260219T142626Z
UID:10000689-1793545200-1793550600@kalender.kloster-lorsch.de
SUMMARY:Familienführung Leben im mittelalterlichen Kloster Lorsch
DESCRIPTION:Im Kloster Lorsch lebten und arbeiteten im Mittelalter nicht nur Mönche. Leibeigene Bauern halfen den Mönchen bei der Feldarbeit\, der Versorgung mit Nahrung oder der Textilherstellung. Adlige Damen und Herren pilgerten zum Kloster\, um etwas für ihr Seelenheil zu tun.  Könige und Kaiser mitsamt ihren Ehefrauen waren im Kloster zu Gast\, um dort zu verweilen\, wichtige Geschäfte zu tätigen und Urkunden ausstellen zu lassen. In der Führung betrachten wir kindgerecht das Leben im mittelalterlichen Kloster und schauen uns an\, welche archäologischen Hinweise wir finden können. \nAltersstufe: Familien mit Kindern ab 8 Jahren\nFindet ab 2 Personen statt (max. 20 Personen)\nOhne Voranmeldung\, Plätze reservieren möglich: buchung@kloster-lorsch.de | 06251 869200\nDie Reservierung verfällt 20 Minuten vor Führungsbeginn bei Nichterscheinen.\nPreis: 7 € | ermäßigt 5 € | Familienkarte 16\,50 € (2 Erw.\, max. 4 Kinder bis 16 Jahre)\nTreffpunkt: Kasse im Museumszentrum (MUZ) am Klostergelände
URL:https://kalender.kloster-lorsch.de/kalender/familienfuehrung-leben-im-mittelalterlichen-kloster-lorsch/2026-11-01/
LOCATION:Museumszentrum
CATEGORIES:Familienführung,Klosterhügel
ATTACH;FMTTYPE=image/webp:https://kalender.kloster-lorsch.de/wp-content/uploads/2024/01/Familienfuehrung-Kloster-Bildnachweis-M-C-Thumm-2023-10-02_1043_D8E4537-2-ausschnitt.jpg.webp
END:VEVENT
BEGIN:VEVENT
DTSTART;TZID=Europe/Berlin:20261105T170000
DTEND;TZID=Europe/Berlin:20261105T210000
DTSTAMP:20260420T011103
CREATED:20251107T134636Z
LAST-MODIFIED:20260226T143238Z
UID:10000702-1793898000-1793912400@kalender.kloster-lorsch.de
SUMMARY:ShowDepot in der Zehntscheune
DESCRIPTION:Ab 17 Uhr ist die Ausstellung im Schaudepot Zehntscheune geöffnet.\nEine Cocktailbar sorgt für erfrischende Sommerdrinks und einen perfekten Start in den Abend. \n18 Uhr: Kostenlose Kurzführung durch die Ausstellung (ca. 30 Min.) \n19 – 21 Uhr: Konzert
URL:https://kalender.kloster-lorsch.de/kalender/showdepot-in-der-zehntscheune/2026-11-05/
LOCATION:Zehntscheune
CATEGORIES:Klosterhügel,Zehntscheune
ATTACH;FMTTYPE=image/jpeg:https://kalender.kloster-lorsch.de/wp-content/uploads/2025/11/Show-Depot-Zehntscheune-Bildnachweis-Florian-Saum-IMG_20250703_201808-bearbeitet-scaled.jpg
END:VEVENT
BEGIN:VEVENT
DTSTART;TZID=Europe/Berlin:20261107T140000
DTEND;TZID=Europe/Berlin:20261107T170000
DTSTAMP:20260420T011103
CREATED:20251211T094658Z
LAST-MODIFIED:20260401T103113Z
UID:10000722-1794060000-1794070800@kalender.kloster-lorsch.de
SUMMARY:Mitmach-Nachmittag im Kloster Lorsch: Kerzenziehen
DESCRIPTION:Vorbeikommen & Mitmachen! Ohne Voranmeldung \nUm 14 Uhr können Kinder und Erwachsene an einer Führung im UNESCO Welterbe Kloster Lorsch teilnehmen (ca. 60 Min\, ab 2 Pers.) \nZwischen 15 und 17 Uhr ist unser Mitmach-Angebot für Kinder und Erwachsene geöffnet. Dort gibt es jedes Mal ein anderes Thema aus dem Bereich Leben und Arbeiten im mittelalterlichen Kloster Lorsch\, z.B. Schreiben & Malen wie die Mönche\, Mosaike\, Tonbodenfliesen\, Töpfern\,… \nAltersstufe: Kinder ab 6 Jahre in Begleitung Erwachsener (die Aufsichtspflicht liegt bei der erwachsenen Begleitung!).\nDie Teilnehmendenzahl ist auf 20 Personen beschränkt.\nKeine Voranmeldung erforderlich. Die Führung findet ab 2 Personen statt. \nTicket: 7 € | ermäßigt 5 € | Familienkarte € 16\,50  (2 Erw.\, max. 4 Kinder bis 16 Jahre)\nZzgl. 3 € Materialkosten pro Person \nTreffpunkt: Kasse im Museumszentrum (MUZ) am Klostergelände \nPreise Stand 01.10.2025\, Änderungen vorbehalten.
URL:https://kalender.kloster-lorsch.de/kalender/mitmach-nachmittag-im-kloster-lorsch-11-07/
LOCATION:Museumszentrum
CATEGORIES:Klosterhügel,Mitmachführung
ATTACH;FMTTYPE=image/jpeg:https://kalender.kloster-lorsch.de/wp-content/uploads/2025/11/mitmach-nachmittag-kloster-lauresham.jpg
END:VEVENT
BEGIN:VEVENT
DTSTART;TZID=Europe/Berlin:20261108T130000
DTEND;TZID=Europe/Berlin:20261108T143000
DTSTAMP:20260420T011103
CREATED:20251107T124103Z
LAST-MODIFIED:20251208T102717Z
UID:10000690-1794142800-1794148200@kalender.kloster-lorsch.de
SUMMARY:Willicumo ze Lauresham - Mit Oda durch den Herrenhof
DESCRIPTION:Erleben Sie den Herrenhof aus der Sicht einer Leibeigenen im Jahr 826. Oda erzählt aus ihrem Alltag als hörige Magd und den Aufgaben und Herausforderungen\, die sie und andere Hofbewohner täglich zu bewältigen haben. Sei es die tägliche Arbeit\, das soziale Miteinander oder die Wohnsituation auf einem herrschaftlichen Hofgut – mit Oda werden Sie ganz unmittelbar in die frühmittelalterliche Welt versetzt. \nAltersstufe: Erwachsene\nFindet ab 2 Personen statt (max. 20 Personen)\nOhne Voranmeldung\, Plätze reservieren möglich: buchung@kloster-lorsch.de | 06251 869200\nDie Reservierung verfällt 20 Minuten vor Führungsbeginn bei Nichterscheinen.\nPreis: 7 € | ermäßigt 5 € \nPreise Stand 01.10.2025\, Änderungen vorbehalten.
URL:https://kalender.kloster-lorsch.de/kalender/willicumo-ze-lauresham-mit-oda-durch-den-herrenhof/2026-11-08/
LOCATION:Lauresham (BIZ)
CATEGORIES:Lauresham,Themenführungen
ATTACH;FMTTYPE=image/webp:https://kalender.kloster-lorsch.de/wp-content/uploads/2024/01/Oda-DSC_9847-ausschnitt.jpg.webp
END:VEVENT
BEGIN:VEVENT
DTSTART;TZID=Europe/Berlin:20261114T150000
DTEND;TZID=Europe/Berlin:20261114T163000
DTSTAMP:20260420T011103
CREATED:20251208T102921Z
LAST-MODIFIED:20251208T124941Z
UID:10000691-1794668400-1794673800@kalender.kloster-lorsch.de
SUMMARY:Themenführung: Frauen im Umfeld des Klosters
DESCRIPTION:Die Mönche im Kloster Lorsch lebten innerhalb der Klostermauern ein Leben voller Gehorsamkeit\, Demut\, Armut und Keuschheit. Dennoch wurden sie mit verschiedenen Frauen aus den unterschiedlichsten Schichten „konfrontiert“.  Als Kaiserin\, Königin\, Adlige\, Nonne oder Bäuerin haben diese Frauen ihre Spuren im Kloster Lorsch hinterlassen. Sie kommen in den historischen Quellen in verschiedenen Rollen vor: als Stifterin\, als Ehefrau\, als Pilgerin\, als Heilkundige\, als politische Ratgeberin oder als Arbeitskraft. Sie begleiteten ihre Ehemänner bei der Unterzeichnung von Urkunden\, sie waren Ratgeberinnen bei politischen Aktivitäten\, sie fanden Zuflucht bei den Lorscher Mönchen und wurden teilweise im Kloster beerdigt. Das Hauptaugenmerk der Führung gilt diesen Frauen. \nAltersstufe: Erwachsene\nFindet ab 2 Personen statt (max. 20 Personen)\nOhne Voranmeldung\, Plätze reservieren möglich: buchung@kloster-lorsch.de | 06251 869200\nDie Reservierung verfällt 20 Minuten vor Führungsbeginn bei Nichterscheinen.\nPreis: 7 € | ermäßigt 5 €\nTreffpunkt: Kasse im Museumszentrum (MUZ) am Klostergelände
URL:https://kalender.kloster-lorsch.de/kalender/themenfuehrung-frauen-im-umfeld-des-klosters/
LOCATION:Museumszentrum
CATEGORIES:Klosterhügel,Themenführungen
ATTACH;FMTTYPE=image/jpeg:https://kalender.kloster-lorsch.de/wp-content/uploads/2024/12/Themenf-Frauen-im-Umfeld-d-Klosters-Lorsch-Bildnachweis-Silke-Strohmenger-IMG_20200901_143432.jpg
END:VEVENT
BEGIN:VEVENT
DTSTART;TZID=Europe/Berlin:20261115T110000
DTEND;TZID=Europe/Berlin:20261115T123000
DTSTAMP:20260420T011103
CREATED:20251208T103530Z
LAST-MODIFIED:20260109T131918Z
UID:10000697-1794740400-1794745800@kalender.kloster-lorsch.de
SUMMARY:Spezialführung: Viele Hände für ein Werk – Buchherstellung im Mittelalter
DESCRIPTION:Mittelalterliche Handschriften sind manchmal vollständig und manchmal nur als Fragment erhalten. Es gibt sie in gebundener Form oder auch als Schriftrolle\, manche sind reichlich und farbenfroh mit eindrucksvollen Bildern verziert und andere ganz schlicht\, aber von sehr bedeutendem Inhalt. Hinter all diesen Werken steckt viel Arbeit von vielen verschiedenen Personen. Diese Führung blickt hinter die Kulissen der mittelalterlichen Schreibstuben und zeigt anhand verschiedener Faksimilia (=detailgetreue Kopien) die Bandbreite der Buchkunst sowie der handwerklichen und kreativen Fähigkeiten der Menschen\, die sie erschaffen haben. \nAltersstufe: Erwachsene und Jugendliche ab 14 Jahre\nAnmeldung bis Mi 11.11.: buchung@kloster-lorsch.de | 06251 869200\nFindet ab 5 Personen statt (bis max. 25 Personen)\nPreis: 7 € | ermäßigt 5 €
URL:https://kalender.kloster-lorsch.de/kalender/spezialfuehrung-viele-haende-fuer-ein-werk-buchherstellung-im-mittelalter/
LOCATION:Museumszentrum
CATEGORIES:Klosterhügel,Themenführungen
ATTACH;FMTTYPE=image/jpeg:https://kalender.kloster-lorsch.de/wp-content/uploads/2025/12/Buchherstellung-im-Mittelalter-Bildanchweis-Florian-Saum-IMG_20251112_154055-bearbeitet-scaled.jpg
END:VEVENT
BEGIN:VEVENT
DTSTART;TZID=Europe/Berlin:20261115T140000
DTEND;TZID=Europe/Berlin:20261115T180000
DTSTAMP:20260420T011103
CREATED:20251208T103707Z
LAST-MODIFIED:20260109T132048Z
UID:10000698-1794751200-1794765600@kalender.kloster-lorsch.de
SUMMARY:Workshop für Erwachsene und Jugendliche ab 14 Jahre: Buchbinden
DESCRIPTION:Klöster und das Handwerk des Buchbindens – zwei Begriffe\, die im Mittelalter untrennbar miteinander verbunden waren. Im Kloster hat man nämlich nicht nur Texte abgeschrieben\, sondern sie auch zu großartigen Büchern zusammengefügt und so der Nachwelt eine Schatzkammer an Wissen hinterlassen. \nIn unserem heutigen Workshop liegt der Fokus nicht auf dem Inhalt der Bücher\, sondern auf ihrer Hülle. Wir lernen wie aus einzelnen Blättern ein Buch entsteht und können uns dann ein kleines Notizbuch in Handarbeit selber herstellen \nAltersstufe: Erwachsene und Jugendliche ab 14 Jahre\nAnmeldung bis 06.11.: buchung@kloster-lorsch.de | 06251 869200\nFindet ab 5 Personen statt (bis max. 15 Personen)\nPreis: 16 € | ermäßigt 10 € (inkl. Material) \nTreffpunkt: Kasse im Museumszentrum (MUZ) am Klostergelände \nPreise Stand 01.10.2025\, Änderungen vorbehalten.
URL:https://kalender.kloster-lorsch.de/kalender/familienworkshop-buchbinden/
LOCATION:Museumszentrum
CATEGORIES:Klosterhügel,Workshop
ATTACH;FMTTYPE=image/jpeg:https://kalender.kloster-lorsch.de/wp-content/uploads/2025/11/Buchbinden-Bildnachweis-Gerald-Raab.jpg
END:VEVENT
BEGIN:VEVENT
DTSTART;TZID=Europe/Berlin:20261121T110000
DTEND;TZID=Europe/Berlin:20261121T170000
DTSTAMP:20260420T011103
CREATED:20251208T103353Z
LAST-MODIFIED:20251208T103353Z
UID:10000696-1795258800-1795280400@kalender.kloster-lorsch.de
SUMMARY:Workshop ab 14 Jahre: Ledertasche herstellen und besticken
DESCRIPTION:Nicht viele Alltagsgegenstände aus Leder und Stoff haben die letzten 1500 Jahre überlebt und können heute begutachtet und bewundert werden. Die wenigen mittelalterlichen Taschen(-fragmente) und Stickereien auf Gewändern und Schuhen sind die Vorbilder für diesen Workshop. In gemütlicher Atmosphäre und mit viel Zeit\, Geduld und Kreativität kann sich jede teilnehmende Person ihre eigene kleine Ledertasche designen\, herstellen und nach Wunsch besticken. Werkzeuge und Setting sind modern\, die Techniken der verschiedenen handwerklichen Prozesse haben sich im Laufe vieler Jahrhunderte jedoch nicht verändert. \nFür Tee und Kaffee ist gesorgt\, bitte an eine kleine Stärkung für Zwischendurch denken. \nAltersstufe: Jugendliche ab 14 Jahre\nAnmeldung bis Fr 13.11.: buchung@kloster-lorsch.de | 06251 869200\nFindet ab 5 Personen statt (bis max. 12 Personen)\nDauer: 6 Stunden\nPreis: 35 € + Materialkosten (je nach Verbrauch 5-15 €)\nTreffpunkt: Kasse im Besucherinformationszentrum (BIZ) des Freilichtlabors Lauresham \nPreise Stand 01.10.2025\, Änderungen vorbehalten.
URL:https://kalender.kloster-lorsch.de/kalender/workshop-ab-14-jahre-ledertasche-herstellen-und-besticken/
LOCATION:Freilichtlabor Lauresham
CATEGORIES:Lauresham,Workshop
ATTACH;FMTTYPE=image/jpeg:https://kalender.kloster-lorsch.de/wp-content/uploads/2024/09/IMG_0880_5zu4.jpg
END:VEVENT
BEGIN:VEVENT
DTSTART;TZID=Europe/Berlin:20261122T110000
DTEND;TZID=Europe/Berlin:20261122T120000
DTSTAMP:20260420T011103
CREATED:20251208T103131Z
LAST-MODIFIED:20251212T142246Z
UID:10000723-1795345200-1795348800@kalender.kloster-lorsch.de
SUMMARY:Die neuesten Funde im Schaudepot Zehntscheune
DESCRIPTION:Die „Steine aus dem Brunnen“ stehen im Mittelpunkt dieser Führung. Dazu zählen der sogenannte „Atzmann“ und der „Diakon“\, aber auch viele Fragmente von Bauschmuck des mittelalterlichen Klosters Lorsch. \nVor einigen Jahren wurde auf dem Gelände des ehem. Klosters Lorsch ein Brunnenschacht aus dem 18. Jahrhundert wieder entdeckt. Die Wandung des Brunnens offenbarte\, dass zu dessen Bau Steine aus der mittelalterlichen Basilika des Lorscher Klosters verwendet wurden. Ein Zeitfenster in die Vergangenheit! Kommen Sie mit auf die Reise in das jüngste Kapitel der Archäologie des Klostergeländes. \nAltersstufe: Erwachsene \nFindet ab 2 Personen statt (max. 25 Personen) \nOhne Voranmeldung\, Plätze reservieren möglich: buchung@kloster-lorsch.de | 06251 869200 \nDie Reservierung verfällt 20 Minuten vor Führungsbeginn bei Nichterscheinen. \nPreis: 7 € | ermäßigt 5 € \nTreffpunkt: Kasse im Museumszentrum (MUZ) am Klostergelände \nPreise Stand 01.10.2025\, Änderungen vorbehalten.
URL:https://kalender.kloster-lorsch.de/kalender/die-neuesten-funde-im-schaudepot-zehntscheune-2/2026-11-22/
LOCATION:Zehntscheune
CATEGORIES:Klosterhügel,Zehntscheune
ATTACH;FMTTYPE=image/jpeg:https://kalender.kloster-lorsch.de/wp-content/uploads/2024/12/Fuehrung-zur-Sonderausstellung-i-der-Zehntscheune-Bildnachweis-Thomas-Neu-DSC_0814.jpg
END:VEVENT
BEGIN:VEVENT
DTSTART;TZID=Europe/Berlin:20261205T150000
DTEND;TZID=Europe/Berlin:20261205T163000
DTSTAMP:20260420T011103
CREATED:20260209T085355Z
LAST-MODIFIED:20260209T085414Z
UID:10000741-1796482800-1796488200@kalender.kloster-lorsch.de
SUMMARY:Feuerführung im Freilichtlabor Lauresham[
DESCRIPTION:Licht gibt es bei uns heute auf Knopfdruck. Und nachts leuchten unsere Städte sogar vom Weltall aus. Die Menschen im frühen Mittelalter haben es mit anderen Licht- und auch Wärmeverhältnissen zu tun. \nWie fühlt sich das Leben auf unserem Herrenhof an einem kalten Winterabend an? Und wie wird Feuer (und Licht) gemacht? Die Feuerschläger aus geschmiedetem Eisen liegen bereit. Wer möchte kann auch selbst ausprobieren\, ein Feuer zu entzünden. \nHinweis: Bitte Lichtquelle (z.B. Taschenlampe oder Handylampe) mitbringen \nAltersstufe: Erwachsene\, Familien mit Kindern ab 8 Jahren\nAnmeldung bis 1.12.: buchung@kloster-lorsch.de | 06251 869200\nFindet ab 5 Personen statt (bis max. 25 Personen)\nPreis: 7 € | ermäßigt 5 € | Familienkarte € 16\,50 (2 Erw.\, max. 4 Kinder bis 16 Jahre) \nTreffpunkt: Kasse im Besucherinformationszentrum (BIZ) des Freilichtlabors Lauresham
URL:https://kalender.kloster-lorsch.de/kalender/feuerfuehrung-im-freilichtlabor-lauresham/2026-12-05/
LOCATION:Freilichtlabor Lauresham
CATEGORIES:Lauresham,Themenführungen
ATTACH;FMTTYPE=image/jpeg:https://kalender.kloster-lorsch.de/wp-content/uploads/2026/02/Feuer-Hauptplatz-Bildnachweis-Florian-Saum-IMG_20211113_1711032-bearbeitet-scaled.jpg
END:VEVENT
BEGIN:VEVENT
DTSTART;TZID=Europe/Berlin:20261206T110000
DTEND;TZID=Europe/Berlin:20261206T120000
DTSTAMP:20260420T011103
CREATED:20251208T103131Z
LAST-MODIFIED:20251212T142246Z
UID:10000699-1796554800-1796558400@kalender.kloster-lorsch.de
SUMMARY:Die neuesten Funde im Schaudepot Zehntscheune
DESCRIPTION:Die „Steine aus dem Brunnen“ stehen im Mittelpunkt dieser Führung. Dazu zählen der sogenannte „Atzmann“ und der „Diakon“\, aber auch viele Fragmente von Bauschmuck des mittelalterlichen Klosters Lorsch. \nVor einigen Jahren wurde auf dem Gelände des ehem. Klosters Lorsch ein Brunnenschacht aus dem 18. Jahrhundert wieder entdeckt. Die Wandung des Brunnens offenbarte\, dass zu dessen Bau Steine aus der mittelalterlichen Basilika des Lorscher Klosters verwendet wurden. Ein Zeitfenster in die Vergangenheit! Kommen Sie mit auf die Reise in das jüngste Kapitel der Archäologie des Klostergeländes. \nAltersstufe: Erwachsene \nFindet ab 2 Personen statt (max. 25 Personen) \nOhne Voranmeldung\, Plätze reservieren möglich: buchung@kloster-lorsch.de | 06251 869200 \nDie Reservierung verfällt 20 Minuten vor Führungsbeginn bei Nichterscheinen. \nPreis: 7 € | ermäßigt 5 € \nTreffpunkt: Kasse im Museumszentrum (MUZ) am Klostergelände \nPreise Stand 01.10.2025\, Änderungen vorbehalten.
URL:https://kalender.kloster-lorsch.de/kalender/die-neuesten-funde-im-schaudepot-zehntscheune-2/2026-12-06/
LOCATION:Zehntscheune
CATEGORIES:Klosterhügel,Zehntscheune
ATTACH;FMTTYPE=image/jpeg:https://kalender.kloster-lorsch.de/wp-content/uploads/2024/12/Fuehrung-zur-Sonderausstellung-i-der-Zehntscheune-Bildnachweis-Thomas-Neu-DSC_0814.jpg
END:VEVENT
BEGIN:VEVENT
DTSTART;TZID=Europe/Berlin:20261206T150000
DTEND;TZID=Europe/Berlin:20261206T163000
DTSTAMP:20260420T011103
CREATED:20260209T085355Z
LAST-MODIFIED:20260209T085414Z
UID:10000742-1796569200-1796574600@kalender.kloster-lorsch.de
SUMMARY:Feuerführung im Freilichtlabor Lauresham[
DESCRIPTION:Licht gibt es bei uns heute auf Knopfdruck. Und nachts leuchten unsere Städte sogar vom Weltall aus. Die Menschen im frühen Mittelalter haben es mit anderen Licht- und auch Wärmeverhältnissen zu tun. \nWie fühlt sich das Leben auf unserem Herrenhof an einem kalten Winterabend an? Und wie wird Feuer (und Licht) gemacht? Die Feuerschläger aus geschmiedetem Eisen liegen bereit. Wer möchte kann auch selbst ausprobieren\, ein Feuer zu entzünden. \nHinweis: Bitte Lichtquelle (z.B. Taschenlampe oder Handylampe) mitbringen \nAltersstufe: Erwachsene\, Familien mit Kindern ab 8 Jahren\nAnmeldung bis 1.12.: buchung@kloster-lorsch.de | 06251 869200\nFindet ab 5 Personen statt (bis max. 25 Personen)\nPreis: 7 € | ermäßigt 5 € | Familienkarte € 16\,50 (2 Erw.\, max. 4 Kinder bis 16 Jahre) \nTreffpunkt: Kasse im Besucherinformationszentrum (BIZ) des Freilichtlabors Lauresham
URL:https://kalender.kloster-lorsch.de/kalender/feuerfuehrung-im-freilichtlabor-lauresham/2026-12-06/
LOCATION:Freilichtlabor Lauresham
CATEGORIES:Lauresham,Themenführungen
ATTACH;FMTTYPE=image/jpeg:https://kalender.kloster-lorsch.de/wp-content/uploads/2026/02/Feuer-Hauptplatz-Bildnachweis-Florian-Saum-IMG_20211113_1711032-bearbeitet-scaled.jpg
END:VEVENT
BEGIN:VEVENT
DTSTART;TZID=Europe/Berlin:20261212T110000
DTEND;TZID=Europe/Berlin:20261212T140000
DTSTAMP:20260420T011103
CREATED:20251208T103947Z
LAST-MODIFIED:20251208T103947Z
UID:10000700-1797073200-1797084000@kalender.kloster-lorsch.de
SUMMARY:Familienworkshop: Filzen & Färben
DESCRIPTION:Bei einer Führung im Freilichtlabor Lauresham geht es auch zu unserer alten Schafrasse. Dort erfahren wir bereits einiges zum Rohstoff Wolle. Die Rohwolle lässt sich auf verschiedenste Arten weiterverarbeiten. Das Nassfilzen ist eine der uralten Techniken. Durch das Walgen der Wolle mit Wasser und Seife entsteht das Filzgewebe. Wir probieren die Technik des Nassfilzens selbst aus und filzen kleine Andenken. Um auch ein wenig Farbe ins Spiel zu bringen\, färben wir auch einen Wollstrang mit pflanzlichen Farbstoffen aus dem Färbergarten. \nAltersstufe: Erwachsene und Familien mit Kindern ab 6 Jahren\nAnmeldung bis Fr 4.12.: buchung@kloster-lorsch.de | 06251 869200\nFindet ab 5 Personen statt (bis max. 15 Personen)\nPreis: 18\,50 € + 3 € Materialkosten\nTreffpunkt: Kasse im Besucherinformationszentrum (BIZ) des Freilichtlabors Lauresham \nPreise Stand 01.10.2025\, Änderungen vorbehalten.
URL:https://kalender.kloster-lorsch.de/kalender/familienworkshop-filzen-faerben/
LOCATION:Lauresham (BIZ)
CATEGORIES:Lauresham,Workshop
ATTACH;FMTTYPE=image/jpeg:https://kalender.kloster-lorsch.de/wp-content/uploads/2025/11/Filzen-und-Faerben-Bildnachweis-Florian-Saum-IMG_20250225_154205-bearbeitet-bearbeitet.jpg
END:VEVENT
BEGIN:VEVENT
DTSTART;TZID=Europe/Berlin:20261220T170000
DTEND;TZID=Europe/Berlin:20261220T173000
DTSTAMP:20260420T011103
CREATED:20251208T100826Z
LAST-MODIFIED:20251208T104101Z
UID:10000701-1797786000-1797787800@kalender.kloster-lorsch.de
SUMMARY:Kurzführung „Hingucker“ – mittelalterliche Buchkunst
DESCRIPTION:Mittelalterliche Handschriften sind manchmal vollständig und manchmal nur als Fragment erhalten. Es gibt sie in gebundener Form (Codex) oder auch als Schriftrolle (Rotulus)\, manche sind reichlich und farbenfroh mit eindrucksvollen Bildern verziert und andere ganz schlicht\, aber von sehr bedeutendem Inhalt. \nDiese kleine Vortragsreihe beschäftigt sich mit den spannenden Handschriften und zeigt die große Bandbreite mittelalterlicher Buchkunst. \nDabei greifen wir auf sogenannte “Faksimiles” unserer Sammlung zurück. Das sind detailgenaue\, fotografische Nachbildungen von originalen mittelalterlichen Handschriften. \nOhne Voranmeldung\, kostenfrei \nTreffpunkt: Kasse des Museumszentrums (MUZ) am Klostergelände
URL:https://kalender.kloster-lorsch.de/kalender/kurzfuehrung-hingucker-mittelalterliche-buchkunst-5/2026-12-20/
LOCATION:Museumszentrum
CATEGORIES:Klosterhügel,Vortrag
ATTACH;FMTTYPE=image/jpeg:https://kalender.kloster-lorsch.de/wp-content/uploads/2025/11/Hingucker-Bildnachweis-Michael-C-Thumm-2023-10-01_1054_D8E3905.jpg
END:VEVENT
END:VCALENDAR