BEGIN:VCALENDAR
VERSION:2.0
PRODID:-//Kalender Kloster Lorsch - ECPv6.15.16//NONSGML v1.0//EN
CALSCALE:GREGORIAN
METHOD:PUBLISH
X-WR-CALNAME:Kalender Kloster Lorsch
X-ORIGINAL-URL:https://kalender.kloster-lorsch.de
X-WR-CALDESC:Veranstaltungen für Kalender Kloster Lorsch
REFRESH-INTERVAL;VALUE=DURATION:PT1H
X-Robots-Tag:noindex
X-PUBLISHED-TTL:PT1H
BEGIN:VTIMEZONE
TZID:Europe/Berlin
BEGIN:DAYLIGHT
TZOFFSETFROM:+0100
TZOFFSETTO:+0200
TZNAME:CEST
DTSTART:20250330T010000
END:DAYLIGHT
BEGIN:STANDARD
TZOFFSETFROM:+0200
TZOFFSETTO:+0100
TZNAME:CET
DTSTART:20251026T010000
END:STANDARD
BEGIN:DAYLIGHT
TZOFFSETFROM:+0100
TZOFFSETTO:+0200
TZNAME:CEST
DTSTART:20260329T010000
END:DAYLIGHT
BEGIN:STANDARD
TZOFFSETFROM:+0200
TZOFFSETTO:+0100
TZNAME:CET
DTSTART:20261025T010000
END:STANDARD
BEGIN:DAYLIGHT
TZOFFSETFROM:+0100
TZOFFSETTO:+0200
TZNAME:CEST
DTSTART:20270328T010000
END:DAYLIGHT
BEGIN:STANDARD
TZOFFSETFROM:+0200
TZOFFSETTO:+0100
TZNAME:CET
DTSTART:20271031T010000
END:STANDARD
END:VTIMEZONE
BEGIN:VEVENT
DTSTART;TZID=Europe/Berlin:20261017T100000
DTEND;TZID=Europe/Berlin:20261017T170000
DTSTAMP:20260419T142842
CREATED:20251219T122508Z
LAST-MODIFIED:20260209T082804Z
UID:10000730-1792231200-1792256400@kalender.kloster-lorsch.de
SUMMARY:Traditionelles Handwerk im Fokus
DESCRIPTION:17. Oktober\nTraditionelles Handwerk im Fokus \nAn diesem Samstag wird es im Rahmen eines großangelegten Handwerkerwochenendes die Möglichkeit geben\, in Lauresham an verschiedenen traditionellen Handwerkskursen teilzunehmen: sei es das Schmieden\, Tauschieren\, Drechseln\, Brettchenweben\, Nähen oder auch die Arbeit mit Zugrindern – für die unterschiedlichsten Interessen sind entsprechende Angebote dabei. \n \nDetails zur Kurs-Anmeldung folgen zeitnah hier im Veranstaltungkalender \nEs finden auch zwei öffentliche Führungen im Freilichtlabor Lauresham statt (11 Uhr | 14 Uhr\, ab 2 Pers.\, ca. 90 Min.\, 3 € Aufpreis pro Eintrittsticket)
URL:https://kalender.kloster-lorsch.de/kalender/traditionelles-handwerk-im-fokus/
LOCATION:Freilichtlabor Lauresham
CATEGORIES:Lauresham,Offenes Lauresham
ATTACH;FMTTYPE=image/jpeg:https://kalender.kloster-lorsch.de/wp-content/uploads/2025/11/Offenes-Lauresham-Bildnachweis-Michael-C-Thumm-2023-05-07_1237_D8560161.jpg
END:VEVENT
BEGIN:VEVENT
DTSTART;TZID=Europe/Berlin:20261018T100000
DTEND;TZID=Europe/Berlin:20261018T170000
DTSTAMP:20260419T142842
CREATED:20251208T102334Z
LAST-MODIFIED:20260109T131625Z
UID:10000687-1792317600-1792342800@kalender.kloster-lorsch.de
SUMMARY:Herbstfest mit Handwerkermarkt
DESCRIPTION:Das diesjährige Herbstfest des Freilichtlabors steht ganz im Zeichen des Immateriellen Kulturerbes und traditionellem Handwerk. Auf dem ganzen Gelände können Besucherinnen und Besucher Handwerksvorführungen erleben\, an zahlreichen Mitmachstationen selbst Ausprobieren oder an Verkaufsständen Handwerksprodukte einkaufen. Für das leibliche Wohl ist gesorgt. \nOrt: Freilichtlabor Lauresham\nEintritt: 8 € | ermäßigt 6 € | Familienkarte 19 € (2 Erw.\, max. 4 Kinder bis 16 Jahre) \nPreise Stand 17.12.2025\, Änderungen vorbehalten
URL:https://kalender.kloster-lorsch.de/kalender/herbstfest-mit-handwerkermarkt2026/
LOCATION:Freilichtlabor Lauresham
CATEGORIES:Allgemeines,Lauresham
ATTACH;FMTTYPE=image/jpeg:https://kalender.kloster-lorsch.de/wp-content/uploads/2024/12/Thementag-Fruehlingsfest-mit-Feldtag-Bildnachweis-Loic-Lagarde.jpg
END:VEVENT
BEGIN:VEVENT
DTSTART;TZID=Europe/Berlin:20261121T110000
DTEND;TZID=Europe/Berlin:20261121T170000
DTSTAMP:20260419T142842
CREATED:20251208T103353Z
LAST-MODIFIED:20251208T103353Z
UID:10000696-1795258800-1795280400@kalender.kloster-lorsch.de
SUMMARY:Workshop ab 14 Jahre: Ledertasche herstellen und besticken
DESCRIPTION:Nicht viele Alltagsgegenstände aus Leder und Stoff haben die letzten 1500 Jahre überlebt und können heute begutachtet und bewundert werden. Die wenigen mittelalterlichen Taschen(-fragmente) und Stickereien auf Gewändern und Schuhen sind die Vorbilder für diesen Workshop. In gemütlicher Atmosphäre und mit viel Zeit\, Geduld und Kreativität kann sich jede teilnehmende Person ihre eigene kleine Ledertasche designen\, herstellen und nach Wunsch besticken. Werkzeuge und Setting sind modern\, die Techniken der verschiedenen handwerklichen Prozesse haben sich im Laufe vieler Jahrhunderte jedoch nicht verändert. \nFür Tee und Kaffee ist gesorgt\, bitte an eine kleine Stärkung für Zwischendurch denken. \nAltersstufe: Jugendliche ab 14 Jahre\nAnmeldung bis Fr 13.11.: buchung@kloster-lorsch.de | 06251 869200\nFindet ab 5 Personen statt (bis max. 12 Personen)\nDauer: 6 Stunden\nPreis: 35 € + Materialkosten (je nach Verbrauch 5-15 €)\nTreffpunkt: Kasse im Besucherinformationszentrum (BIZ) des Freilichtlabors Lauresham \nPreise Stand 01.10.2025\, Änderungen vorbehalten.
URL:https://kalender.kloster-lorsch.de/kalender/workshop-ab-14-jahre-ledertasche-herstellen-und-besticken/
LOCATION:Freilichtlabor Lauresham
CATEGORIES:Lauresham,Workshop
ATTACH;FMTTYPE=image/jpeg:https://kalender.kloster-lorsch.de/wp-content/uploads/2024/09/IMG_0880_5zu4.jpg
END:VEVENT
BEGIN:VEVENT
DTSTART;TZID=Europe/Berlin:20261205T150000
DTEND;TZID=Europe/Berlin:20261205T163000
DTSTAMP:20260419T142842
CREATED:20260209T085355Z
LAST-MODIFIED:20260209T085414Z
UID:10000741-1796482800-1796488200@kalender.kloster-lorsch.de
SUMMARY:Feuerführung im Freilichtlabor Lauresham[
DESCRIPTION:Licht gibt es bei uns heute auf Knopfdruck. Und nachts leuchten unsere Städte sogar vom Weltall aus. Die Menschen im frühen Mittelalter haben es mit anderen Licht- und auch Wärmeverhältnissen zu tun. \nWie fühlt sich das Leben auf unserem Herrenhof an einem kalten Winterabend an? Und wie wird Feuer (und Licht) gemacht? Die Feuerschläger aus geschmiedetem Eisen liegen bereit. Wer möchte kann auch selbst ausprobieren\, ein Feuer zu entzünden. \nHinweis: Bitte Lichtquelle (z.B. Taschenlampe oder Handylampe) mitbringen \nAltersstufe: Erwachsene\, Familien mit Kindern ab 8 Jahren\nAnmeldung bis 1.12.: buchung@kloster-lorsch.de | 06251 869200\nFindet ab 5 Personen statt (bis max. 25 Personen)\nPreis: 7 € | ermäßigt 5 € | Familienkarte € 16\,50 (2 Erw.\, max. 4 Kinder bis 16 Jahre) \nTreffpunkt: Kasse im Besucherinformationszentrum (BIZ) des Freilichtlabors Lauresham
URL:https://kalender.kloster-lorsch.de/kalender/feuerfuehrung-im-freilichtlabor-lauresham/2026-12-05/
LOCATION:Freilichtlabor Lauresham
CATEGORIES:Lauresham,Themenführungen
ATTACH;FMTTYPE=image/jpeg:https://kalender.kloster-lorsch.de/wp-content/uploads/2026/02/Feuer-Hauptplatz-Bildnachweis-Florian-Saum-IMG_20211113_1711032-bearbeitet-scaled.jpg
END:VEVENT
BEGIN:VEVENT
DTSTART;TZID=Europe/Berlin:20261206T150000
DTEND;TZID=Europe/Berlin:20261206T163000
DTSTAMP:20260419T142842
CREATED:20260209T085355Z
LAST-MODIFIED:20260209T085414Z
UID:10000742-1796569200-1796574600@kalender.kloster-lorsch.de
SUMMARY:Feuerführung im Freilichtlabor Lauresham[
DESCRIPTION:Licht gibt es bei uns heute auf Knopfdruck. Und nachts leuchten unsere Städte sogar vom Weltall aus. Die Menschen im frühen Mittelalter haben es mit anderen Licht- und auch Wärmeverhältnissen zu tun. \nWie fühlt sich das Leben auf unserem Herrenhof an einem kalten Winterabend an? Und wie wird Feuer (und Licht) gemacht? Die Feuerschläger aus geschmiedetem Eisen liegen bereit. Wer möchte kann auch selbst ausprobieren\, ein Feuer zu entzünden. \nHinweis: Bitte Lichtquelle (z.B. Taschenlampe oder Handylampe) mitbringen \nAltersstufe: Erwachsene\, Familien mit Kindern ab 8 Jahren\nAnmeldung bis 1.12.: buchung@kloster-lorsch.de | 06251 869200\nFindet ab 5 Personen statt (bis max. 25 Personen)\nPreis: 7 € | ermäßigt 5 € | Familienkarte € 16\,50 (2 Erw.\, max. 4 Kinder bis 16 Jahre) \nTreffpunkt: Kasse im Besucherinformationszentrum (BIZ) des Freilichtlabors Lauresham
URL:https://kalender.kloster-lorsch.de/kalender/feuerfuehrung-im-freilichtlabor-lauresham/2026-12-06/
LOCATION:Freilichtlabor Lauresham
CATEGORIES:Lauresham,Themenführungen
ATTACH;FMTTYPE=image/jpeg:https://kalender.kloster-lorsch.de/wp-content/uploads/2026/02/Feuer-Hauptplatz-Bildnachweis-Florian-Saum-IMG_20211113_1711032-bearbeitet-scaled.jpg
END:VEVENT
END:VCALENDAR