BEGIN:VCALENDAR
VERSION:2.0
PRODID:-//Kalender Kloster Lorsch - ECPv6.15.16//NONSGML v1.0//EN
CALSCALE:GREGORIAN
METHOD:PUBLISH
X-WR-CALNAME:Kalender Kloster Lorsch
X-ORIGINAL-URL:https://kalender.kloster-lorsch.de
X-WR-CALDESC:Veranstaltungen für Kalender Kloster Lorsch
REFRESH-INTERVAL;VALUE=DURATION:PT1H
X-Robots-Tag:noindex
X-PUBLISHED-TTL:PT1H
BEGIN:VTIMEZONE
TZID:Europe/Berlin
BEGIN:DAYLIGHT
TZOFFSETFROM:+0100
TZOFFSETTO:+0200
TZNAME:CEST
DTSTART:20240331T010000
END:DAYLIGHT
BEGIN:STANDARD
TZOFFSETFROM:+0200
TZOFFSETTO:+0100
TZNAME:CET
DTSTART:20241027T010000
END:STANDARD
BEGIN:DAYLIGHT
TZOFFSETFROM:+0100
TZOFFSETTO:+0200
TZNAME:CEST
DTSTART:20250330T010000
END:DAYLIGHT
BEGIN:STANDARD
TZOFFSETFROM:+0200
TZOFFSETTO:+0100
TZNAME:CET
DTSTART:20251026T010000
END:STANDARD
BEGIN:DAYLIGHT
TZOFFSETFROM:+0100
TZOFFSETTO:+0200
TZNAME:CEST
DTSTART:20260329T010000
END:DAYLIGHT
BEGIN:STANDARD
TZOFFSETFROM:+0200
TZOFFSETTO:+0100
TZNAME:CET
DTSTART:20261025T010000
END:STANDARD
END:VTIMEZONE
BEGIN:VEVENT
DTSTART;TZID=Europe/Berlin:20250518T100000
DTEND;TZID=Europe/Berlin:20250518T170000
DTSTAMP:20260422T121142
CREATED:20250107T150449Z
LAST-MODIFIED:20250129T083432Z
UID:10000399-1747562400-1747587600@kalender.kloster-lorsch.de
SUMMARY:Internationaler Museumstag
DESCRIPTION:Heute sind der Eintritt in die Zehntscheune und das Museumszentrum kostenfrei. Besuchen Sie unser Schaudepot Zehntscheune mit den schönsten architektonischen Fragmenten ehemaliger Lorscher Klostergebäude aus 8 Jahrhunderten. Darunter z.B. der sogenannte Sarkophag Ludwigs des Deutschen. Auch die Sonderausstellung in der Zehntscheune ist heute kostenfrei zugänglich. \nIm Museumszentrum erwartet Sie die klostergeschichtliche Abteilung\, das Tabakmuseum\, sowie eine Sonderausstellung. \nBitte beachten Sie\, dass die öffentlichen Kloster-Führungen kostenpflichtig bleiben. \nEintritt: kostenfrei
URL:https://kalender.kloster-lorsch.de/kalender/internationaler-museumstag-2/
LOCATION:Klosterareal
CATEGORIES:Allgemeines,Gesamtes Welterbe
ATTACH;FMTTYPE=image/jpeg:https://kalender.kloster-lorsch.de/wp-content/uploads/2025/01/museumstag.jpg
END:VEVENT
BEGIN:VEVENT
DTSTART;TZID=Europe/Berlin:20250511T110000
DTEND;TZID=Europe/Berlin:20250511T170000
DTSTAMP:20260422T121142
CREATED:20250127T133713Z
LAST-MODIFIED:20250213T095337Z
UID:10000541-1746961200-1746982800@kalender.kloster-lorsch.de
SUMMARY:Aktionstag „Wissen wächst im Garten“
DESCRIPTION:Der Aktionstag “Wissen wächst im Garten” der Staatlichen Schlösser und Gärten Hessen (SG) auf dem Gelände des UNESCO-Welterbes Kloster Lorsch ist ein kostenfreies Angebot für Familien und Erwachsene rund um das große Thema Garten. An abwechslungsreichen Wissens- und Mitmachstationen können Kinder und Erwachsene spielerisch mehr über Historische Gärten und die Lorscher Klosteranlage erfahren. Anknüpfungspunkte sind z.B. unter anderem die klösterliche Gartenkultur. \nDieses Jahr fällt der Aktionstag zusammen mit dem “Frühlingsmarkt mit Bienen- und Dichterfest und Pfingstrosentagen” der Stadt Lorsch. Es gibt also rund ums Klostergelände Vieles anzusehen und zu erleben.
URL:https://kalender.kloster-lorsch.de/kalender/aktionstag-wissen-waechst-im-garten/
LOCATION:Klosterareal
CATEGORIES:Allgemeines,Gesamtes Welterbe
ATTACH;FMTTYPE=image/jpeg:https://kalender.kloster-lorsch.de/wp-content/uploads/2025/01/Wissen-waechst-im-Garten-Bildnachweis-Florian-Saum-IMG_20240901_132857-bearbeitet_20241206_142458_0000.jpg
END:VEVENT
BEGIN:VEVENT
DTSTART;TZID=Europe/Berlin:20250503T140000
DTEND;TZID=Europe/Berlin:20250503T170000
DTSTAMP:20260422T121142
CREATED:20250107T145635Z
LAST-MODIFIED:20260401T100311Z
UID:10000396-1746280800-1746291600@kalender.kloster-lorsch.de
SUMMARY:Mitmach-Nachmittag im Kloster Lorsch
DESCRIPTION:Immer am ersten Samstag im Monat steht unsere Tür für zwei Angebote ohne Voranmeldung offen: eine Klosterführung und ein Mitmach-Programm. \nUm 14 Uhr können Kinder und Erwachsene an einer ca. einstündigen Klosterführung teilnehmen. \nZwischen 15 und 17 Uhr gibt es ein Mitmach-Programm aus unserer Museumspädagogik für Kinder und Erwachsene. Innerhalb dieses Zeitraums ist die Teilnahme möglich. \nKeine Voranmeldung erforderlich.\nTickets am Museumszentrum erhältlich/ Treffpunkt: Kasse des Museumszentrums \nKinder ab 6 Jahre in Begleitung Erwachsener (die Aufsichtspflicht liegt bei der erwachsenen Begleitung!). \nDie Teilnehmendenzahl ist auf 20 Personen beschränkt. \nTickets: 7 € | Kinder 5 € | Familienkarte 16\,50 € (2 Erw.\, max. 4 Kinder bis 16 Jahre)\, zzgl. Materialkosten je 3 € \nEs ist auch möglich\, nur an der Führung\, oder nur am Mitmach-Angebot teilzunehmen. Bitte vor Ort nachfragen. \n 
URL:https://kalender.kloster-lorsch.de/kalender/mitmach-nachmittag-im-kloster-lorsch-mai/
LOCATION:Klosterareal
CATEGORIES:Klosterhügel,Mitmachführung
ATTACH;FMTTYPE=image/webp:https://kalender.kloster-lorsch.de/wp-content/uploads/2024/01/Familienfuehrung-Kloster-Bildnachweis-M-C-Thumm-2023-10-02_1043_D8E4537-2-ausschnitt.jpg.webp
END:VEVENT
BEGIN:VEVENT
DTSTART;TZID=Europe/Berlin:20250405T140000
DTEND;TZID=Europe/Berlin:20250405T170000
DTSTAMP:20260422T121142
CREATED:20250107T141112Z
LAST-MODIFIED:20250212T102601Z
UID:10000365-1743861600-1743872400@kalender.kloster-lorsch.de
SUMMARY:Mitmach-Nachmittag im Kloster Lorsch
DESCRIPTION:Immer am ersten Samstag im Monat steht unsere Tür für zwei Angebote ohne Voranmeldung offen: eine Klosterführung und ein Mitmach-Programm. \nUm 14 Uhr können Kinder und Erwachsene an einer ca. einstündigen Klosterführung teilnehmen. \nZwischen 15 und 17 Uhr gibt es ein Mitmach-Programm aus unserer Museumspädagogik für Kinder und Erwachsene. Innerhalb dieses Zeitraums ist die Teilnahme möglich. \nKeine Voranmeldung erforderlich.\nTickets am Museumszentrum erhältlich/ Treffpunkt: Kasse des Museumszentrums\nKinder ab 6 Jahre in Begleitung Erwachsener. \nTickets: 7 € | Kinder 5 € | Familienkarte 16\,50 € (2 Erw.\, max. 4 Kinder bis 16 Jahre)\, zzgl. Materialkosten je 3 € \nEs ist auch möglich\, nur an der Führung\, oder nur am Mitmach-Angebot teilzunehmen. Bitte vor Ort nachfragen.
URL:https://kalender.kloster-lorsch.de/kalender/mitmach-nachmittag-im-kloster-lorsch-april/
LOCATION:Klosterareal
CATEGORIES:Klosterhügel,Mitmachführung
ATTACH;FMTTYPE=image/webp:https://kalender.kloster-lorsch.de/wp-content/uploads/2024/01/Familienfuehrung-Kloster-Bildnachweis-M-C-Thumm-2023-10-02_1043_D8E4537-2-ausschnitt.jpg.webp
END:VEVENT
BEGIN:VEVENT
DTSTART;TZID=Europe/Berlin:20250301T140000
DTEND;TZID=Europe/Berlin:20250301T170000
DTSTAMP:20260422T121142
CREATED:20241218T132916Z
LAST-MODIFIED:20260401T095858Z
UID:10000358-1740837600-1740848400@kalender.kloster-lorsch.de
SUMMARY:Mitmach-Nachmittag im Kloster Lorsch
DESCRIPTION:Immer am ersten Samstag im Monat steht unsere Tür für zwei Angebote ohne Voranmeldung offen: eine Klosterführung und ein Mitmach-Programm. \nUm 14 Uhr können Kinder und Erwachsene an einer ca. einstündigen Klosterführung teilnehmen. \nZwischen 15 und 17 Uhr gibt es ein Mitmach-Programm aus unserer Museumspädagogik für Kinder und Erwachsene. Innerhalb dieses Zeitraums ist die Teilnahme möglich. \nKeine Voranmeldung erforderlich. Tickets am Museumszentrum erhältlich/ Treffpunkt: Kasse des Museumszentrums \nKinder ab 6 Jahre in Begleitung Erwachsener (die Aufsichtspflicht liegt bei der erwachsenen Begleitung!). \nDie Teilnehmendenzahl ist auf 20 Personen beschränkt. \nTickets: 7 € | Kinder 5 € | Familienkarte 16\,50 € (2 Erw.\, max. 4 Kinder bis 16 Jahre)\, zzgl. Materialkosten je 3 € \nEs ist auch möglich\, nur an der Führung\, oder nur am Mitmach-Angebot teilzunehmen. Bitte vor Ort nachfragen.
URL:https://kalender.kloster-lorsch.de/kalender/mitmach-nachmittag-im-kloster-lorsch/
LOCATION:Klosterareal
CATEGORIES:Klosterhügel,Mitmachführung
ATTACH;FMTTYPE=image/webp:https://kalender.kloster-lorsch.de/wp-content/uploads/2024/01/Familienfuehrung-Kloster-Bildnachweis-M-C-Thumm-2023-10-02_1043_D8E4537-2-ausschnitt.jpg.webp
END:VEVENT
END:VCALENDAR